BEGIN:VCALENDAR
VERSION:2.0
PRODID:-// - ECPv6.15.20//NONSGML v1.0//EN
CALSCALE:GREGORIAN
METHOD:PUBLISH
X-ORIGINAL-URL:https://shekhinahb.org
X-WR-CALDESC:Events for 
REFRESH-INTERVAL;VALUE=DURATION:PT1H
X-Robots-Tag:noindex
X-PUBLISHED-TTL:PT1H
BEGIN:VTIMEZONE
TZID:America/New_York
BEGIN:DAYLIGHT
TZOFFSETFROM:-0500
TZOFFSETTO:-0400
TZNAME:EDT
DTSTART:20210314T070000
END:DAYLIGHT
BEGIN:STANDARD
TZOFFSETFROM:-0400
TZOFFSETTO:-0500
TZNAME:EST
DTSTART:20211107T060000
END:STANDARD
BEGIN:DAYLIGHT
TZOFFSETFROM:-0500
TZOFFSETTO:-0400
TZNAME:EDT
DTSTART:20220313T070000
END:DAYLIGHT
BEGIN:STANDARD
TZOFFSETFROM:-0400
TZOFFSETTO:-0500
TZNAME:EST
DTSTART:20221106T060000
END:STANDARD
BEGIN:DAYLIGHT
TZOFFSETFROM:-0500
TZOFFSETTO:-0400
TZNAME:EDT
DTSTART:20230312T070000
END:DAYLIGHT
BEGIN:STANDARD
TZOFFSETFROM:-0400
TZOFFSETTO:-0500
TZNAME:EST
DTSTART:20231105T060000
END:STANDARD
BEGIN:DAYLIGHT
TZOFFSETFROM:-0500
TZOFFSETTO:-0400
TZNAME:EDT
DTSTART:20240310T070000
END:DAYLIGHT
BEGIN:STANDARD
TZOFFSETFROM:-0400
TZOFFSETTO:-0500
TZNAME:EST
DTSTART:20241103T060000
END:STANDARD
END:VTIMEZONE
BEGIN:VTIMEZONE
TZID:UTC
BEGIN:STANDARD
TZOFFSETFROM:+0000
TZOFFSETTO:+0000
TZNAME:UTC
DTSTART:20210101T000000
END:STANDARD
END:VTIMEZONE
BEGIN:VEVENT
DTSTART;TZID=America/New_York:20230608T170000
DTEND;TZID=America/New_York:20230608T190000
DTSTAMP:20260420T145729
CREATED:20230516T021154Z
LAST-MODIFIED:20230608T191935Z
UID:1918-1686243600-1686250800@shekhinahb.org
SUMMARY:*****CANCELLED DUE TO AIR QUALITY***** Center City Social
DESCRIPTION:
URL:https://shekhinahb.org/event/center-city-social-2/
LOCATION:3 Logan Square\, 1717 Arch St.\, Philadelphia\, PA\, 19102\, United States
END:VEVENT
BEGIN:VEVENT
DTSTART;TZID=America/New_York:20230607T180000
DTEND;TZID=America/New_York:20230607T180000
DTSTAMP:20260420T145729
CREATED:20230505T161013Z
LAST-MODIFIED:20230505T163301Z
UID:1900-1686160800-1686160800@shekhinahb.org
SUMMARY:PVLA’s 45th Anniversary Arts Affair 2023
DESCRIPTION:As a proud community partner of Philadelphia Volunteer Lawyers for the Arts\, The Women’s Coalition for Empowerment\, Inc. is looking forward to joining them and celebrating their landmark 45th anniversary at the annual Arts Affair bash on June 7th at The University of the Arts! \nPVLA is the only organization of its kind in our region\, providing crucial pro bono legal services\, resources\, and knowledge to low-income artists\, artist collectives\, and small arts organizations. The Arts Affair will highlight PVLA’s deep dedication to Philadelphia’s arts & cultural community. \nFeaturing live performances by some of Philadelphia’s best local artists and awards for both Volunteer Attorney and Law Firms of the Year\, plus delicious food and drink\, this will be one art party you won’t want to miss!  Grab your tickets today by clicking the link below. \nhttps://www.eventbrite.com/e/the-arts-affair-2023-tickets-522560531617
URL:https://shekhinahb.org/event/pvlas-45th-anniversary-arts-affair-2023/
LOCATION:Hamilton Hall @ University of the Arts\, 320 S. Broad Street\, Philadelphia\, PA\, 19102\, United States
END:VEVENT
BEGIN:VEVENT
DTSTART;TZID=America/New_York:20230605T170000
DTEND;TZID=America/New_York:20230605T200000
DTSTAMP:20260420T145729
CREATED:20230123T215022Z
LAST-MODIFIED:20230123T215022Z
UID:1791-1685984400-1685995200@shekhinahb.org
SUMMARY:Sounds of Sistahood:  A Black Music Month Experience
DESCRIPTION:
URL:https://shekhinahb.org/event/sounds-of-sistahood-a-black-music-month-experience/
LOCATION:Free Library of Philadelphia Parkway Branch\, 1901 Vine Street\, Philadelphia\, PA\, 19103\, United States
END:VEVENT
BEGIN:VEVENT
DTSTART;TZID=America/New_York:20230603T190000
DTEND;TZID=America/New_York:20230603T220000
DTSTAMP:20260420T145729
CREATED:20230529T165542Z
LAST-MODIFIED:20230529T165542Z
UID:1928-1685818800-1685829600@shekhinahb.org
SUMMARY:Saturday Sounds Summerfest 2023 (DJ Cam Kelly)
DESCRIPTION:Blue Cross RiverRink Summerfest and Spruce Street Harbor Park reopen on May 12\, kicking off a season of warm weather fun on the Delaware River Waterfront at Penns Landing.
URL:https://shekhinahb.org/event/saturday-sounds-summerfest-2023-dj-cam-kelly/
LOCATION:Blue Cross RiverRink\, 101 S. Columbus Blvd\, Philadelphia\, PA\, 19106\, United States
END:VEVENT
BEGIN:VEVENT
DTSTART;TZID=America/New_York:20230602T193000
DTEND;TZID=America/New_York:20230602T223000
DTSTAMP:20260420T145729
CREATED:20230430T195514Z
LAST-MODIFIED:20230430T202438Z
UID:1868-1685734200-1685745000@shekhinahb.org
SUMMARY:After Work Sessions at the Waterfront 2023
DESCRIPTION:
URL:https://shekhinahb.org/event/after-work-sessions-at-the-waterfront-2023-3/
LOCATION:Spruce Street Harbor Park\, 301 South Christopher Columbus Boulevard\, Philadelphia\, PA\, 19106
END:VEVENT
BEGIN:VEVENT
DTSTART;TZID=America/New_York:20230601T170000
DTEND;TZID=America/New_York:20230601T190000
DTSTAMP:20260420T145729
CREATED:20230516T020745Z
LAST-MODIFIED:20230516T020830Z
UID:1913-1685638800-1685646000@shekhinahb.org
SUMMARY:Center City Social
DESCRIPTION:
URL:https://shekhinahb.org/event/center-city-social/
LOCATION:2 Penn Center\, 1500 JFK Blvd.\, Philadelphia\, PA\, 19102\, United States
END:VEVENT
BEGIN:VEVENT
DTSTART;TZID=America/New_York:20230531T170000
DTEND;TZID=America/New_York:20230531T180000
DTSTAMP:20260420T145729
CREATED:20230401T015734Z
LAST-MODIFIED:20230410T234539Z
UID:1834-1685552400-1685556000@shekhinahb.org
SUMMARY:Live Lobby Sessions @ Kimpton Hotel Monaco feat. Masha T
DESCRIPTION:Featuring Masha T
URL:https://shekhinahb.org/event/live-lobby-sessions-kimpton-hotel-monaco-5/
LOCATION:Kimpton Hotel Monaco\, 433 Chestnut Street\, Philadelphia\, PA\, 19106
END:VEVENT
BEGIN:VEVENT
DTSTART;TZID=America/New_York:20230527T180000
DTEND;TZID=America/New_York:20230527T220000
DTSTAMP:20260420T145729
CREATED:20230510T004141Z
LAST-MODIFIED:20230510T004141Z
UID:1908-1685210400-1685224800@shekhinahb.org
SUMMARY:Memorial Day Weekend Firework Show (Tara Hendricks)
DESCRIPTION:
URL:https://shekhinahb.org/event/memorial-day-weekend-firework-show-tara-hendricks/
LOCATION:Great Plaza at Penn’s Landing\, 101 S. Columbus Blvd\, Philadelphia\, PA\, 19106\, United States
END:VEVENT
BEGIN:VEVENT
DTSTART;TZID=America/New_York:20230526T193000
DTEND;TZID=America/New_York:20230526T223000
DTSTAMP:20260420T145729
CREATED:20230430T193151Z
LAST-MODIFIED:20230430T202507Z
UID:1866-1685129400-1685140200@shekhinahb.org
SUMMARY:After Work Sessions at the Waterfront 2023
DESCRIPTION:
URL:https://shekhinahb.org/event/after-work-sessions-at-the-waterfront-2023-2/
LOCATION:Spruce Street Harbor Park\, 301 South Christopher Columbus Boulevard\, Philadelphia\, PA\, 19106
END:VEVENT
BEGIN:VEVENT
DTSTART;TZID=America/New_York:20230524T170000
DTEND;TZID=America/New_York:20230524T180000
DTSTAMP:20260420T145729
CREATED:20230401T015633Z
LAST-MODIFIED:20230410T234706Z
UID:1832-1684947600-1684951200@shekhinahb.org
SUMMARY:Live Lobby Sessions @ Kimpton Hotel Monaco feat. Carla Gamble
DESCRIPTION:Featuring Carla Gamble
URL:https://shekhinahb.org/event/live-lobby-sessions-kimpton-hotel-monaco-4/
LOCATION:Kimpton Hotel Monaco\, 433 Chestnut Street\, Philadelphia\, PA\, 19106
END:VEVENT
BEGIN:VEVENT
DTSTART;TZID=America/New_York:20230521T160000
DTEND;TZID=America/New_York:20230521T190000
DTSTAMP:20260420T145729
CREATED:20230105T181738Z
LAST-MODIFIED:20230105T181738Z
UID:1781-1684684800-1684695600@shekhinahb.org
SUMMARY:Creatives Chat Series 2023 (Spring Networking)
DESCRIPTION:
URL:https://shekhinahb.org/event/creatives-chat-series-2023-spring-networking/
LOCATION:The Rotunda\, 4014 Walnut Street\, Philadelphia\, PA\, 19104\, United States
END:VEVENT
BEGIN:VEVENT
DTSTART;TZID=America/New_York:20230512T193000
DTEND;TZID=America/New_York:20230512T223000
DTSTAMP:20260420T145729
CREATED:20230430T192913Z
LAST-MODIFIED:20230430T202548Z
UID:1863-1683919800-1683930600@shekhinahb.org
SUMMARY:After Work Sessions at the Waterfront 2023
DESCRIPTION:
URL:https://shekhinahb.org/event/after-work-sessions-at-the-waterfront-2023/
LOCATION:Spruce Street Harbor Park\, 301 South Christopher Columbus Boulevard\, Philadelphia\, PA\, 19106
END:VEVENT
BEGIN:VEVENT
DTSTART;TZID=America/New_York:20230510T183000
DTEND;TZID=America/New_York:20230510T210000
DTSTAMP:20260420T145729
CREATED:20230401T020342Z
LAST-MODIFIED:20230410T234758Z
UID:1836-1683743400-1683752400@shekhinahb.org
SUMMARY:Live Music Wednesdays @ Stratus Rooftop Lounge (Kimpton Hotel) feat. Jamicka of Black Canvas
DESCRIPTION:Featuring Jamicka of Black Canvas
URL:https://shekhinahb.org/event/live-music-wednesdays-stratus-rooftop-lounge-kimpton-hotel/
LOCATION:The Stratus Lounge (Kimpton Hotel)\, 433 Chestnut Street\, Philadelphia\, PA\, 19106\, United States
END:VEVENT
BEGIN:VEVENT
DTSTART;TZID=America/New_York:20230510T170000
DTEND;TZID=America/New_York:20230510T180000
DTSTAMP:20260420T145729
CREATED:20230401T015002Z
LAST-MODIFIED:20230410T234852Z
UID:1829-1683738000-1683741600@shekhinahb.org
SUMMARY:Live Lobby Sessions @ Kimpton Hotel Monaco feat. Badd Kitti
DESCRIPTION:Featuring Badd Kitti
URL:https://shekhinahb.org/event/live-lobby-sessions-kimpton-hotel-monaco-3/
LOCATION:Kimpton Hotel Monaco\, 433 Chestnut Street\, Philadelphia\, PA\, 19106
END:VEVENT
BEGIN:VEVENT
DTSTART;TZID=America/New_York:20230426T170000
DTEND;TZID=America/New_York:20230426T180000
DTSTAMP:20260420T145729
CREATED:20230401T014626Z
LAST-MODIFIED:20230410T234954Z
UID:1827-1682528400-1682532000@shekhinahb.org
SUMMARY:Live Lobby Sessions @ Kimpton Hotel Monaco feat. Gretchen Elise
DESCRIPTION:Featuring Gretchen Elise
URL:https://shekhinahb.org/event/live-lobby-sessions-kimpton-hotel-monaco-2/
LOCATION:Kimpton Hotel Monaco\, 433 Chestnut Street\, Philadelphia\, PA\, 19106
END:VEVENT
BEGIN:VEVENT
DTSTART;TZID=America/New_York:20230412T170000
DTEND;TZID=America/New_York:20230412T180000
DTSTAMP:20260420T145729
CREATED:20230401T014243Z
LAST-MODIFIED:20230410T235058Z
UID:1823-1681318800-1681322400@shekhinahb.org
SUMMARY:Live Lobby Sessions @ Kimpton Hotel Monaco feat. Patrice Hawthorne
DESCRIPTION:Featuring Patrice Hawthorne
URL:https://shekhinahb.org/event/live-lobby-sessions-kimpton-hotel-monaco/
LOCATION:Kimpton Hotel Monaco\, 433 Chestnut Street\, Philadelphia\, PA\, 19106
END:VEVENT
BEGIN:VEVENT
DTSTART;TZID=America/New_York:20230402T160000
DTEND;TZID=America/New_York:20230402T190000
DTSTAMP:20260420T145729
CREATED:20230105T181440Z
LAST-MODIFIED:20230105T181440Z
UID:1778-1680451200-1680462000@shekhinahb.org
SUMMARY:Creatives Chat Series 2023 (Legal Contract Clinic with PVLA)
DESCRIPTION:
URL:https://shekhinahb.org/event/creatives-chat-series-2023-legal-contract-clinic-with-pvla/
LOCATION:The Rotunda\, 4014 Walnut Street\, Philadelphia\, PA\, 19104\, United States
END:VEVENT
BEGIN:VEVENT
DTSTART;TZID=America/New_York:20230326T160000
DTEND;TZID=America/New_York:20230326T200000
DTSTAMP:20260420T145729
CREATED:20230315T201545Z
LAST-MODIFIED:20230315T201545Z
UID:1817-1679846400-1679860800@shekhinahb.org
SUMMARY:Ladies n R&B featuring the Women's Collective for National Women's Month
DESCRIPTION:
URL:https://shekhinahb.org/event/ladies-n-rb-featuring-the-womens-collective-for-national-womens-month/
LOCATION:Vera (Bar | Gril | Nightclub)\, 2310 Marlton Pike W.\, Cherry Hill\, PA\, 08002\, United States
END:VEVENT
BEGIN:VEVENT
DTSTART;TZID=America/New_York:20230312T160000
DTEND;TZID=America/New_York:20230312T190000
DTSTAMP:20260420T145729
CREATED:20230105T181110Z
LAST-MODIFIED:20230105T181110Z
UID:1775-1678636800-1678647600@shekhinahb.org
SUMMARY:Creatives Chat Series 2023 (Women's Month)
DESCRIPTION:
URL:https://shekhinahb.org/event/creatives-chat-series-2023-womens-month/
LOCATION:The Rotunda\, 4014 Walnut Street\, Philadelphia\, PA\, 19104\, United States
END:VEVENT
BEGIN:VEVENT
DTSTART;TZID=America/New_York:20230308T173000
DTEND;TZID=America/New_York:20230308T200000
DTSTAMP:20260420T145729
CREATED:20230211T000704Z
LAST-MODIFIED:20230211T054707Z
UID:1805-1678296600-1678305600@shekhinahb.org
SUMMARY:Women's Way Wednesday:  Sisterly Love Collective Pop-Up Series
DESCRIPTION:  \n  \n \nIn celebration of Women’s History Month\, Stratus Rooftop Lounge and Sisterly Love Collective present Women’s Way Wednesdays\, a weekly pop-up celebrating various women-owned and operated culinary and beverage establishments in the Philadelphia region. Each Wednesday in March\, from 5:30 to 8 pm\, a different chef will present a thoughtfully curated menu of diverse\, delicious cuisine complete with cocktails\, brews\, global wines\, pastries\, plus an interactive meet & greet with featured chefs. \n100% of proceeds from ticket sales will benefit Women’s Way\, Philadelphia’s leading nonprofit organization dedicated to the advancement of women\, girls\, and gender and racial equity. \nTickets for 3/8\, will be $35 all-inclusive and include an exquisite variety of one-of-a-kind bites\, and include one complimentary beverage ticket featuring beverages from woman owned or operated distilleries\, breweries and wineries accompanied by live music by women musicians.  Additional beverages can be purchased à la carte and a portion of proceeds contributing towards Women’s Way. \nChef and Music Lineup: \n\nWednesday\, 3/8: Chef Christina McKeough of High Street Philadelphia  Music by Shekinah B  https://shekhinahb.org
URL:https://shekhinahb.org/event/womens-way-wednesday-sisterly-love-collective-pop-up-series/
LOCATION:The Stratus Lounge (Kimpton Hotel)\, 433 Chestnut Street\, Philadelphia\, PA\, 19106\, United States
END:VEVENT
BEGIN:VEVENT
DTSTART;TZID=America/New_York:20230308T093000
DTEND;TZID=America/New_York:20230308T140000
DTSTAMP:20260420T145729
CREATED:20230210T234845Z
LAST-MODIFIED:20230210T234845Z
UID:1801-1678267800-1678284000@shekhinahb.org
SUMMARY:International Women's Day Event @ BHTEN
DESCRIPTION:
URL:https://shekhinahb.org/event/international-womens-day-event-bhten/
LOCATION:BHTEN\, 520 Delaware Avenue 7th Floor\, Philadelphia\, PA\, 19123\, United States
END:VEVENT
BEGIN:VEVENT
DTSTART;TZID=America/New_York:20230213T180000
DTEND;TZID=America/New_York:20230213T200000
DTSTAMP:20260420T145729
CREATED:20230112T003231Z
LAST-MODIFIED:20230112T003231Z
UID:1785-1676311200-1676318400@shekhinahb.org
SUMMARY:The Bigger Picture Workshop (Securing Creative Opportunities)
DESCRIPTION:
URL:https://shekhinahb.org/event/the-bigger-picture-workshop-securing-creative-opportunities/
LOCATION:The Rotunda\, 4014 Walnut Street\, Philadelphia\, PA\, 19104\, United States
END:VEVENT
BEGIN:VEVENT
DTSTART;TZID=America/New_York:20230212T110000
DTEND;TZID=America/New_York:20230212T130000
DTSTAMP:20260420T145729
CREATED:20230104T192859Z
LAST-MODIFIED:20230104T192859Z
UID:1769-1676199600-1676206800@shekhinahb.org
SUMMARY:Cyrenity Sips Winery - Valentine's Weekend Brunch (02.12.23)
DESCRIPTION:
URL:https://shekhinahb.org/event/cyrenity-sips-winery-valentines-weekend-brunch-02-12-23/
LOCATION:Cyrenity Sips Winery\, 31 S. York Road\, Hatboro\, PA\, 19040\, United States
END:VEVENT
BEGIN:VEVENT
DTSTART;TZID=America/New_York:20230203T180000
DTEND;TZID=America/New_York:20230203T190000
DTSTAMP:20260420T145729
CREATED:20230201T214854Z
LAST-MODIFIED:20230201T214854Z
UID:1798-1675447200-1675450800@shekhinahb.org
SUMMARY:Behind the Curtain II (2022) Arts Access TV (Virtual)
DESCRIPTION:
URL:https://shekhinahb.org/event/behind-the-curtain-ii-2022-arts-access-tv-virtual/
LOCATION:PA
END:VEVENT
BEGIN:VEVENT
DTSTART;TZID=America/New_York:20230201T180000
DTEND;TZID=America/New_York:20230201T190000
DTSTAMP:20260420T145729
CREATED:20230201T214626Z
LAST-MODIFIED:20230201T214626Z
UID:1794-1675274400-1675278000@shekhinahb.org
SUMMARY:Behind the Curtain I (2022) Arts Access TV (Virtual)
DESCRIPTION:
URL:https://shekhinahb.org/event/behind-the-curtain-i-2022-arts-access-tv-virtual/
LOCATION:PA
END:VEVENT
BEGIN:VEVENT
DTSTART;TZID=America/New_York:20221231T220000
DTEND;TZID=America/New_York:20230101T010000
DTSTAMP:20260420T145729
CREATED:20221214T004736Z
LAST-MODIFIED:20221214T014703Z
UID:1753-1672524000-1672534800@shekhinahb.org
SUMMARY:NYE Count Down Party (21+) @ Cherry Street Pier
DESCRIPTION:  \n\nRing in 2023 at the New Year’s Eve Countdown Party with Fireworks (21+) at Cherry Street Pier.\nEnjoy a front-row seat to the Rivers Casino New Year’s Eve Fireworks on the Waterfront at midnight along with an evening of festive fun for you and the crew.\n\nEnjoy playing with our Giant Lite Brite\, and show off your moves during an epic dance party with a live video feed on our jumbo screens. Music will be provided by vocalist Tanqueray Hayward\, who will perform with DJ Cameron Kelly who will bring New Orleans house music-inspired sounds. Curated by Shekhinah B. of The Women’s Coalition for Empowerment\, Inc. \nTICKETS\nPrice: $35 per person \nRESERVE YOUR TICKETS TODAY\n\nTickets include: \n\nComplimentary alcoholic beverage\nExclusive views of the Rivers Casino New Year’s Eve Fireworks on the Waterfront (Midnight)\nGiveaways while supplies last\nCash bar
URL:https://shekhinahb.org/event/nye-count-down-party-21-cherry-street-pier/
LOCATION:Cherry Street Pier\, 121 N. Columbus Blvd\, Philadelphia\, PA\, 19106\, United States
END:VEVENT
BEGIN:VEVENT
DTSTART;TZID=UTC:20221228T180000
DTEND;TZID=UTC:20221228T200000
DTSTAMP:20260420T145729
CREATED:20220615T212055Z
LAST-MODIFIED:20220627T170831Z
UID:1560-1672250400-1672257600@shekhinahb.org
SUMMARY:Live @ Aloft - WCE Artist Showcases (December 28\, 2022)
DESCRIPTION:
URL:https://shekhinahb.org/event/live-aloft-wce-artist-showcases-december-28-2022/
LOCATION:Aloft Philadelphia Downtown\, 101 N. Broad Street\, Philadelphia\, PA\, 19107\, United States
END:VEVENT
BEGIN:VEVENT
DTSTART;TZID=UTC:20221130T180000
DTEND;TZID=UTC:20221130T200000
DTSTAMP:20260420T145729
CREATED:20220615T211922Z
LAST-MODIFIED:20220627T170929Z
UID:1558-1669831200-1669838400@shekhinahb.org
SUMMARY:Live @ Aloft - WCE Artist Showcases (November 30\, 2022)
DESCRIPTION:
URL:https://shekhinahb.org/event/live-aloft-wce-artist-showcases-november-30-2022/
LOCATION:Aloft Philadelphia Downtown\, 101 N. Broad Street\, Philadelphia\, PA\, 19107\, United States
END:VEVENT
BEGIN:VEVENT
DTSTART;TZID=America/New_York:20221126T190000
DTEND;TZID=America/New_York:20221126T220000
DTSTAMP:20260420T145729
CREATED:20221123T192343Z
LAST-MODIFIED:20221123T192343Z
UID:1747-1669489200-1669500000@shekhinahb.org
SUMMARY:Opening Weekend at Blue Cross River Rink (DJ RocDaSpot)
DESCRIPTION:
URL:https://shekhinahb.org/event/opening-weekend-at-blue-cross-river-rink-dj-rocdaspot/
LOCATION:Blue Cross RiverRink\, 101 S. Columbus Blvd\, Philadelphia\, PA\, 19106\, United States
END:VEVENT
BEGIN:VEVENT
DTSTART;TZID=UTC:20221113T160000
DTEND;TZID=UTC:20221113T180000
DTSTAMP:20260420T145729
CREATED:20220928T084731Z
LAST-MODIFIED:20221013T215321Z
UID:1713-1668355200-1668362400@shekhinahb.org
SUMMARY:Creatives Chat (Live Curated Discussion)
DESCRIPTION:
URL:https://shekhinahb.org/event/creatives-chat-live-curated-discussion/
LOCATION:The Rotunda\, 4014 Walnut Street\, Philadelphia\, PA\, 19104\, United States
END:VEVENT
END:VCALENDAR