BEGIN:VCALENDAR
VERSION:2.0
PRODID:-// - ECPv6.15.20//NONSGML v1.0//EN
CALSCALE:GREGORIAN
METHOD:PUBLISH
X-ORIGINAL-URL:https://shekhinahb.org
X-WR-CALDESC:Events for 
REFRESH-INTERVAL;VALUE=DURATION:PT1H
X-Robots-Tag:noindex
X-PUBLISHED-TTL:PT1H
BEGIN:VTIMEZONE
TZID:UTC
BEGIN:STANDARD
TZOFFSETFROM:+0000
TZOFFSETTO:+0000
TZNAME:UTC
DTSTART:20210101T000000
END:STANDARD
END:VTIMEZONE
BEGIN:VEVENT
DTSTART;TZID=UTC:20221005T120000
DTEND;TZID=UTC:20221005T130000
DTSTAMP:20260420T225124
CREATED:20221002T215049Z
LAST-MODIFIED:20221002T215235Z
UID:1716-1664971200-1664974800@shekhinahb.org
SUMMARY:Live @ Lunch at Dilworth Park (Hosting) {Performer - Ericka Glenn}
DESCRIPTION:
URL:https://shekhinahb.org/event/live-lunch-at-dilworth-park-hosting-performer-ericka-glenn/
LOCATION:Dilworth Plaza\, 1 S 15th St\, Philadelphia\, PA\, 19102\, United States
END:VEVENT
BEGIN:VEVENT
DTSTART;TZID=UTC:20220928T180000
DTEND;TZID=UTC:20220928T200000
DTSTAMP:20260420T225124
CREATED:20220615T211324Z
LAST-MODIFIED:20220627T171059Z
UID:1554-1664388000-1664395200@shekhinahb.org
SUMMARY:Live @ Aloft - WCE Artist Showcases (September 28\, 2022)
DESCRIPTION:
URL:https://shekhinahb.org/event/live-aloft-wce-artist-showcases-september-28-2022/
LOCATION:Aloft Philadelphia Downtown\, 101 N. Broad Street\, Philadelphia\, PA\, 19107\, United States
END:VEVENT
BEGIN:VEVENT
DTSTART;TZID=UTC:20220928T120000
DTEND;TZID=UTC:20220928T130000
DTSTAMP:20260420T225124
CREATED:20220928T042249Z
LAST-MODIFIED:20220928T044218Z
UID:1706-1664366400-1664370000@shekhinahb.org
SUMMARY:Live @ Lunch at Dilworth Park 12pm - 1pm
DESCRIPTION:
URL:https://shekhinahb.org/event/live-lunch-at-dilworth-park/
LOCATION:Dilworth Plaza\, 1 S 15th St\, Philadelphia\, PA\, 19102\, United States
END:VEVENT
BEGIN:VEVENT
DTSTART;TZID=UTC:20220924T190000
DTEND;TZID=UTC:20220924T220000
DTSTAMP:20260420T225124
CREATED:20220810T210747Z
LAST-MODIFIED:20220811T184627Z
UID:1636-1664046000-1664056800@shekhinahb.org
SUMMARY:Saturday Sounds (Summerfest) 2022 {Hosting} (09.24.22)
DESCRIPTION:Blue Cross RiverRink Summerfest and Spruce Street Harbor Park reopen on May 10\, kicking off a season of warm weather fun on the Delaware River Waterfront.
URL:https://shekhinahb.org/event/saturday-sounds-summerfest-2022-hosting-4/
LOCATION:Blue Cross RiverRink\, 101 S. Columbus Blvd\, Philadelphia\, PA\, 19106\, United States
END:VEVENT
BEGIN:VEVENT
DTSTART;TZID=UTC:20220917T180000
DTEND;TZID=UTC:20220917T220000
DTSTAMP:20260420T225124
CREATED:20220827T211021Z
LAST-MODIFIED:20220909T234317Z
UID:1661-1663437600-1663452000@shekhinahb.org
SUMMARY:Fall Music Fest Series 2022 at Spruce Street Harbor Park
DESCRIPTION:
URL:https://shekhinahb.org/event/fall-fest-2022-at-spruce-street-harbor-park-2/
LOCATION:Spruce Street Harbor Park\, 301 South Christopher Columbus Boulevard\, Philadelphia\, PA\, 19106
END:VEVENT
BEGIN:VEVENT
DTSTART;TZID=UTC:20220916T180000
DTEND;TZID=UTC:20220916T180000
DTSTAMP:20260420T225124
CREATED:20220827T210524Z
LAST-MODIFIED:20220909T234503Z
UID:1658-1663351200-1663351200@shekhinahb.org
SUMMARY:Fall Music Fest Series 2022 at Spruce Street Harbor Park
DESCRIPTION:
URL:https://shekhinahb.org/event/fall-fest-2022-at-spruce-street-harbor-park/
LOCATION:Spruce Street Harbor Park\, 301 South Christopher Columbus Boulevard\, Philadelphia\, PA\, 19106
END:VEVENT
BEGIN:VEVENT
DTSTART;TZID=UTC:20220910T190000
DTEND;TZID=UTC:20220910T220000
DTSTAMP:20260420T225124
CREATED:20220810T210535Z
LAST-MODIFIED:20220811T184550Z
UID:1634-1662836400-1662847200@shekhinahb.org
SUMMARY:Saturday Sounds (Summerfest) 2022 {Hosting} (09.10.22)
DESCRIPTION:Blue Cross RiverRink Summerfest\, kicking off a season of warm weather fun on the Delaware River Waterfront.
URL:https://shekhinahb.org/event/saturday-sounds-summerfest-2022-hosting-3/
LOCATION:Blue Cross RiverRink\, 101 S. Columbus Blvd\, Philadelphia\, PA\, 19106\, United States
END:VEVENT
BEGIN:VEVENT
DTSTART;TZID=UTC:20220831T180000
DTEND;TZID=UTC:20220831T200000
DTSTAMP:20260420T225124
CREATED:20220615T210020Z
LAST-MODIFIED:20220627T171139Z
UID:1549-1661968800-1661976000@shekhinahb.org
SUMMARY:Live @ Aloft - WCE Artist Showcases (August 31\, 2022)
DESCRIPTION:
URL:https://shekhinahb.org/event/live-aloft-wce-artist-showcases-august-31-2022/
LOCATION:Aloft Philadelphia Downtown\, 101 N. Broad Street\, Philadelphia\, PA\, 19107\, United States
END:VEVENT
BEGIN:VEVENT
DTSTART;TZID=UTC:20220830T170000
DTEND;TZID=UTC:20220830T200000
DTSTAMP:20260420T225124
CREATED:20220627T173014Z
LAST-MODIFIED:20220811T173711Z
UID:1588-1661878800-1661889600@shekhinahb.org
SUMMARY:Philly River Stroll Sounds @ Penn's Landing (08.30.22)
DESCRIPTION:
URL:https://shekhinahb.org/event/philly-river-stroll-sounds-penns-landing-08-30-22/
LOCATION:Blue Cross RiverRink\, 101 S. Columbus Blvd\, Philadelphia\, PA\, 19106\, United States
END:VEVENT
BEGIN:VEVENT
DTSTART;TZID=UTC:20220827T190000
DTEND;TZID=UTC:20220827T220000
DTSTAMP:20260420T225124
CREATED:20220810T205525Z
LAST-MODIFIED:20220811T184437Z
UID:1630-1661626800-1661637600@shekhinahb.org
SUMMARY:Saturday Sounds (Summerfest) 2022 {Hosting} (08.27.22)
DESCRIPTION:Blue Cross RiverRink Summerfest\, kicking off a season of warm weather fun on the Delaware River Waterfront.
URL:https://shekhinahb.org/event/saturday-sounds-summerfest-2022-hosting/
LOCATION:Blue Cross RiverRink\, 101 S. Columbus Blvd\, Philadelphia\, PA\, 19106\, United States
END:VEVENT
BEGIN:VEVENT
DTSTART;TZID=UTC:20220826T183000
DTEND;TZID=UTC:20220826T213000
DTSTAMP:20260420T225124
CREATED:20220514T021421Z
LAST-MODIFIED:20220515T052616Z
UID:1509-1661538600-1661549400@shekhinahb.org
SUMMARY:After Work Sessions at the Waterfront (08.26.22)
DESCRIPTION:
URL:https://shekhinahb.org/event/after-work-sessions-at-the-waterfront-08-26-22/
LOCATION:Spruce Street Harbor Park\, 301 South Christopher Columbus Boulevard\, Philadelphia\, PA\, 19106
END:VEVENT
BEGIN:VEVENT
DTSTART;TZID=UTC:20220823T170000
DTEND;TZID=UTC:20220823T200000
DTSTAMP:20260420T225124
CREATED:20220627T172904Z
LAST-MODIFIED:20220811T173629Z
UID:1586-1661274000-1661284800@shekhinahb.org
SUMMARY:Philly River Stroll Sounds @ Penn's Landing (08.23.22)
DESCRIPTION:
URL:https://shekhinahb.org/event/philly-river-stroll-sounds-penns-landing-08-23-22/
LOCATION:Blue Cross RiverRink\, 101 S. Columbus Blvd\, Philadelphia\, PA\, 19106\, United States
END:VEVENT
BEGIN:VEVENT
DTSTART;TZID=UTC:20220820T160000
DTEND;TZID=UTC:20220820T180000
DTSTAMP:20260420T225124
CREATED:20220419T012117Z
LAST-MODIFIED:20220419T012711Z
UID:1467-1661011200-1661018400@shekhinahb.org
SUMMARY:Sistah Soul Series 2022 (August)
DESCRIPTION:
URL:https://shekhinahb.org/event/sistah-soul-series-2022-august/
LOCATION:Love Park\, 1500 Arch Street\, Philadelphia\, PA\, 19102\, United States
END:VEVENT
BEGIN:VEVENT
DTSTART;TZID=UTC:20220816T170000
DTEND;TZID=UTC:20220816T200000
DTSTAMP:20260420T225124
CREATED:20220627T172744Z
LAST-MODIFIED:20220811T174035Z
UID:1584-1660669200-1660680000@shekhinahb.org
SUMMARY:Philly River Stroll Sounds @ Penn's Landing (08.16.22)
DESCRIPTION:
URL:https://shekhinahb.org/event/philly-river-stroll-sounds-penns-landing-08-16-22/
LOCATION:Blue Cross RiverRink\, 101 S. Columbus Blvd\, Philadelphia\, PA\, 19106\, United States
END:VEVENT
BEGIN:VEVENT
DTSTART;TZID=UTC:20220813T190000
DTEND;TZID=UTC:20220813T220000
DTSTAMP:20260420T225124
CREATED:20220810T205217Z
LAST-MODIFIED:20220811T184244Z
UID:1626-1660417200-1660428000@shekhinahb.org
SUMMARY:Saturday Sounds (Summerfest) 2022 (Hosting w/ DJ RocDaSpot) (08.13.22)
DESCRIPTION:Blue Cross RiverRink Summerfest kicking off a season of warm weather fun on the Delaware River Waterfront.
URL:https://shekhinahb.org/event/saturday-sounds-summerfest-2022-hosting-w-dj-rocdaspot/
LOCATION:Blue Cross RiverRink\, 101 S. Columbus Blvd\, Philadelphia\, PA\, 19106\, United States
END:VEVENT
BEGIN:VEVENT
DTSTART;TZID=UTC:20220812T183000
DTEND;TZID=UTC:20220812T213000
DTSTAMP:20260420T225124
CREATED:20220514T020747Z
LAST-MODIFIED:20220515T052648Z
UID:1507-1660329000-1660339800@shekhinahb.org
SUMMARY:After Work Sessions at the Waterfront (08.12.22)
DESCRIPTION:
URL:https://shekhinahb.org/event/after-work-sessions-at-the-waterfront-08-12-22/
LOCATION:Spruce Street Harbor Park\, 301 South Christopher Columbus Boulevard\, Philadelphia\, PA\, 19106
END:VEVENT
BEGIN:VEVENT
DTSTART;TZID=UTC:20220810T193000
DTEND;TZID=UTC:20220810T200000
DTSTAMP:20260420T225124
CREATED:20220714T204003Z
LAST-MODIFIED:20220805T044828Z
UID:1594-1660159800-1660161600@shekhinahb.org
SUMMARY:Street Movies! 2022 (Scribe Video) Feat. Shekhinah B.
DESCRIPTION:
URL:https://shekhinahb.org/event/street-movies-2022-scribe-video-feat-shekhinah-b/
LOCATION:Church of the Advocate\, 1801 W. Diamond Street\, Philadelphia\, PA\, 19121\, United States
END:VEVENT
BEGIN:VEVENT
DTSTART;TZID=UTC:20220810T183000
DTEND;TZID=UTC:20220810T213000
DTSTAMP:20260420T225124
CREATED:20220810T205814Z
LAST-MODIFIED:20220810T205814Z
UID:1632-1660156200-1660167000@shekhinahb.org
SUMMARY:Saturday Sounds (Summerfest) 2022 (Hosting)
DESCRIPTION:Blue Cross RiverRink Summerfest\, kicking off a season of warm weather fun on the Delaware River Waterfront.
URL:https://shekhinahb.org/event/saturday-sounds-summerfest-2022-hosting-2/
LOCATION:PA
END:VEVENT
BEGIN:VEVENT
DTSTART;TZID=UTC:20220802T160000
DTEND;TZID=UTC:20220802T190000
DTSTAMP:20260420T225124
CREATED:20220627T172606Z
LAST-MODIFIED:20220627T173236Z
UID:1582-1659456000-1659466800@shekhinahb.org
SUMMARY:Philly River Stroll Sounds @ Penn's Landing (08.02.22)
DESCRIPTION:
URL:https://shekhinahb.org/event/philly-river-stroll-sounds-penns-landing-08-02-22/
LOCATION:Blue Cross RiverRink\, 101 S. Columbus Blvd\, Philadelphia\, PA\, 19106\, United States
END:VEVENT
BEGIN:VEVENT
DTSTART;TZID=UTC:20220730T190000
DTEND;TZID=UTC:20220730T190000
DTSTAMP:20260420T225124
CREATED:20220610T210310Z
LAST-MODIFIED:20220610T211237Z
UID:1537-1659207600-1659207600@shekhinahb.org
SUMMARY:Gimme That Music (Lady Alma's Birthday Celebration) 07.30.22 {Hosted by Shekhinah B.}
DESCRIPTION:The second installment of Gimme That Music at World Cafe Live is here. The month of July represents freedom\, celebration\, and independence. Lady Alma\, accompanied by Philly’s own Vertical Current performing high-energy Jazz-House fusion sounds from her hand-selected catalogue on her birthday weekend. Vertical Current is an extraordinary international award-winning band with a history of complimenting Philadelphia’s musical royalty. Lady Alma wants to share a special performance with her long-time supporters on this occasion. Join us as we prepare to be Almatized!
URL:https://shekhinahb.org/event/gimme-that-music-lady-almas-birthday-07-30-22/
LOCATION:World Cafe Live\, 3025 Walnut Street\, Philadelphia\, PA\, 19104\, United States
END:VEVENT
BEGIN:VEVENT
DTSTART;TZID=UTC:20220729T183000
DTEND;TZID=UTC:20220729T213000
DTSTAMP:20260420T225124
CREATED:20220514T013248Z
LAST-MODIFIED:20220515T052725Z
UID:1503-1659119400-1659130200@shekhinahb.org
SUMMARY:After Work Sessions at the Waterfront (07.29.22)
DESCRIPTION:
URL:https://shekhinahb.org/event/after-work-sessions-at-the-waterfront-07-29-22/
LOCATION:Spruce Street Harbor Park\, 301 South Christopher Columbus Boulevard\, Philadelphia\, PA\, 19106
END:VEVENT
BEGIN:VEVENT
DTSTART;TZID=UTC:20220727T180000
DTEND;TZID=UTC:20220727T200000
DTSTAMP:20260420T225124
CREATED:20220615T205643Z
LAST-MODIFIED:20220627T171225Z
UID:1547-1658944800-1658952000@shekhinahb.org
SUMMARY:Live @ Aloft - WCE Artist Showcases (July 27\, 2022)
DESCRIPTION:
URL:https://shekhinahb.org/event/live-aloft-wce-artist-showcases-july-27-2022/
LOCATION:Aloft Philadelphia Downtown\, 101 N. Broad Street\, Philadelphia\, PA\, 19107\, United States
END:VEVENT
BEGIN:VEVENT
DTSTART;TZID=UTC:20220726T160000
DTEND;TZID=UTC:20220726T190000
DTSTAMP:20260420T225124
CREATED:20220627T172424Z
LAST-MODIFIED:20220627T173211Z
UID:1580-1658851200-1658862000@shekhinahb.org
SUMMARY:Philly River Stroll Sounds @ Penn's Landing (07.26.22)
DESCRIPTION:
URL:https://shekhinahb.org/event/philly-river-stroll-sounds-penns-landing-07-26-22/
LOCATION:Blue Cross RiverRink\, 101 S. Columbus Blvd\, Philadelphia\, PA\, 19106\, United States
END:VEVENT
BEGIN:VEVENT
DTSTART;TZID=UTC:20220719T160000
DTEND;TZID=UTC:20220719T190000
DTSTAMP:20260420T225124
CREATED:20220627T172254Z
LAST-MODIFIED:20220627T173137Z
UID:1578-1658246400-1658257200@shekhinahb.org
SUMMARY:Philly River Stroll Sounds @ Penn's Landing (07.19.22)
DESCRIPTION:
URL:https://shekhinahb.org/event/philly-river-stroll-sounds-penns-landing-07-19-22/
LOCATION:Blue Cross RiverRink\, 101 S. Columbus Blvd\, Philadelphia\, PA\, 19106\, United States
END:VEVENT
BEGIN:VEVENT
DTSTART;TZID=UTC:20220716T160000
DTEND;TZID=UTC:20220716T180000
DTSTAMP:20260420T225124
CREATED:20220419T012009Z
LAST-MODIFIED:20220419T012009Z
UID:1465-1657987200-1657994400@shekhinahb.org
SUMMARY:Sistah Soul Series 2022 (July)
DESCRIPTION:
URL:https://shekhinahb.org/event/sistah-soul-series-2022-july/
LOCATION:Love Park\, 1500 Arch Street\, Philadelphia\, PA\, 19102\, United States
END:VEVENT
BEGIN:VEVENT
DTSTART;TZID=UTC:20220712T160000
DTEND;TZID=UTC:20220712T190000
DTSTAMP:20260420T225124
CREATED:20220627T172102Z
LAST-MODIFIED:20220627T173107Z
UID:1576-1657641600-1657652400@shekhinahb.org
SUMMARY:Philly River Stroll Sounds @ Penn's Landing (07.12.22)
DESCRIPTION:
URL:https://shekhinahb.org/event/philly-river-stroll-sounds-penns-landing-07-12-22/
LOCATION:Blue Cross RiverRink\, 101 S. Columbus Blvd\, Philadelphia\, PA\, 19106\, United States
END:VEVENT
BEGIN:VEVENT
DTSTART;TZID=UTC:20220708T183000
DTEND;TZID=UTC:20220708T213000
DTSTAMP:20260420T225124
CREATED:20220514T012630Z
LAST-MODIFIED:20220515T052756Z
UID:1501-1657305000-1657315800@shekhinahb.org
SUMMARY:After Work Sessions at the Waterfront (07.08.22)
DESCRIPTION:
URL:https://shekhinahb.org/event/after-work-sessions-at-the-waterfront-07-08-22/
LOCATION:Spruce Street Harbor Park\, 301 South Christopher Columbus Boulevard\, Philadelphia\, PA\, 19106
END:VEVENT
BEGIN:VEVENT
DTSTART;TZID=UTC:20220705T160000
DTEND;TZID=UTC:20220705T190000
DTSTAMP:20260420T225124
CREATED:20220627T171835Z
LAST-MODIFIED:20220627T173045Z
UID:1571-1657036800-1657047600@shekhinahb.org
SUMMARY:Philly River Stroll Sounds @ Penn's Landing (07.05.22)
DESCRIPTION:
URL:https://shekhinahb.org/event/philly-river-stroll-sounds-penns-landing/
LOCATION:Blue Cross RiverRink\, 101 S. Columbus Blvd\, Philadelphia\, PA\, 19106\, United States
END:VEVENT
BEGIN:VEVENT
DTSTART;TZID=UTC:20220629T180000
DTEND;TZID=UTC:20220629T200000
DTSTAMP:20260420T225124
CREATED:20220615T205400Z
LAST-MODIFIED:20220627T171303Z
UID:1544-1656525600-1656532800@shekhinahb.org
SUMMARY:Live @ Aloft - WCE Artist Showcases (June 29\, 2022)
DESCRIPTION:
URL:https://shekhinahb.org/event/live-aloft-wce-artist-showcases-june-29-2022/
LOCATION:Aloft Philadelphia Downtown\, 101 N. Broad Street\, Philadelphia\, PA\, 19107\, United States
END:VEVENT
BEGIN:VEVENT
DTSTART;TZID=UTC:20220624T183000
DTEND;TZID=UTC:20220624T213000
DTSTAMP:20260420T225124
CREATED:20220514T011525Z
LAST-MODIFIED:20220515T052833Z
UID:1496-1656095400-1656106200@shekhinahb.org
SUMMARY:After Work Sessions at the Waterfront (06.24.22)
DESCRIPTION:
URL:https://shekhinahb.org/event/after-work-sessions-at-the-waterfront-06-24-22/
LOCATION:Spruce Street Harbor Park\, 301 South Christopher Columbus Boulevard\, Philadelphia\, PA\, 19106
END:VEVENT
END:VCALENDAR