BEGIN:VCALENDAR
VERSION:2.0
PRODID:-// - ECPv6.15.20//NONSGML v1.0//EN
CALSCALE:GREGORIAN
METHOD:PUBLISH
X-ORIGINAL-URL:https://shekhinahb.org
X-WR-CALDESC:Events for 
REFRESH-INTERVAL;VALUE=DURATION:PT1H
X-Robots-Tag:noindex
X-PUBLISHED-TTL:PT1H
BEGIN:VTIMEZONE
TZID:UTC
BEGIN:STANDARD
TZOFFSETFROM:+0000
TZOFFSETTO:+0000
TZNAME:UTC
DTSTART:20200101T000000
END:STANDARD
END:VTIMEZONE
BEGIN:VEVENT
DTSTART;TZID=UTC:20220716T160000
DTEND;TZID=UTC:20220716T180000
DTSTAMP:20260421T003406
CREATED:20220419T012009Z
LAST-MODIFIED:20220419T012009Z
UID:1465-1657987200-1657994400@shekhinahb.org
SUMMARY:Sistah Soul Series 2022 (July)
DESCRIPTION:
URL:https://shekhinahb.org/event/sistah-soul-series-2022-july/
LOCATION:Love Park\, 1500 Arch Street\, Philadelphia\, PA\, 19102\, United States
END:VEVENT
BEGIN:VEVENT
DTSTART;TZID=UTC:20220712T160000
DTEND;TZID=UTC:20220712T190000
DTSTAMP:20260421T003406
CREATED:20220627T172102Z
LAST-MODIFIED:20220627T173107Z
UID:1576-1657641600-1657652400@shekhinahb.org
SUMMARY:Philly River Stroll Sounds @ Penn's Landing (07.12.22)
DESCRIPTION:
URL:https://shekhinahb.org/event/philly-river-stroll-sounds-penns-landing-07-12-22/
LOCATION:Blue Cross RiverRink\, 101 S. Columbus Blvd\, Philadelphia\, PA\, 19106\, United States
END:VEVENT
BEGIN:VEVENT
DTSTART;TZID=UTC:20220708T183000
DTEND;TZID=UTC:20220708T213000
DTSTAMP:20260421T003406
CREATED:20220514T012630Z
LAST-MODIFIED:20220515T052756Z
UID:1501-1657305000-1657315800@shekhinahb.org
SUMMARY:After Work Sessions at the Waterfront (07.08.22)
DESCRIPTION:
URL:https://shekhinahb.org/event/after-work-sessions-at-the-waterfront-07-08-22/
LOCATION:Spruce Street Harbor Park\, 301 South Christopher Columbus Boulevard\, Philadelphia\, PA\, 19106
END:VEVENT
BEGIN:VEVENT
DTSTART;TZID=UTC:20220705T160000
DTEND;TZID=UTC:20220705T190000
DTSTAMP:20260421T003406
CREATED:20220627T171835Z
LAST-MODIFIED:20220627T173045Z
UID:1571-1657036800-1657047600@shekhinahb.org
SUMMARY:Philly River Stroll Sounds @ Penn's Landing (07.05.22)
DESCRIPTION:
URL:https://shekhinahb.org/event/philly-river-stroll-sounds-penns-landing/
LOCATION:Blue Cross RiverRink\, 101 S. Columbus Blvd\, Philadelphia\, PA\, 19106\, United States
END:VEVENT
BEGIN:VEVENT
DTSTART;TZID=UTC:20220629T180000
DTEND;TZID=UTC:20220629T200000
DTSTAMP:20260421T003406
CREATED:20220615T205400Z
LAST-MODIFIED:20220627T171303Z
UID:1544-1656525600-1656532800@shekhinahb.org
SUMMARY:Live @ Aloft - WCE Artist Showcases (June 29\, 2022)
DESCRIPTION:
URL:https://shekhinahb.org/event/live-aloft-wce-artist-showcases-june-29-2022/
LOCATION:Aloft Philadelphia Downtown\, 101 N. Broad Street\, Philadelphia\, PA\, 19107\, United States
END:VEVENT
BEGIN:VEVENT
DTSTART;TZID=UTC:20220624T183000
DTEND;TZID=UTC:20220624T213000
DTSTAMP:20260421T003406
CREATED:20220514T011525Z
LAST-MODIFIED:20220515T052833Z
UID:1496-1656095400-1656106200@shekhinahb.org
SUMMARY:After Work Sessions at the Waterfront (06.24.22)
DESCRIPTION:
URL:https://shekhinahb.org/event/after-work-sessions-at-the-waterfront-06-24-22/
LOCATION:Spruce Street Harbor Park\, 301 South Christopher Columbus Boulevard\, Philadelphia\, PA\, 19106
END:VEVENT
BEGIN:VEVENT
DTSTART;TZID=UTC:20220618T160000
DTEND;TZID=UTC:20220618T180000
DTSTAMP:20260421T003406
CREATED:20220419T011852Z
LAST-MODIFIED:20220419T011852Z
UID:1463-1655568000-1655575200@shekhinahb.org
SUMMARY:Sistah Soul Series 2022 (June)
DESCRIPTION:
URL:https://shekhinahb.org/event/sistah-soul-series-2022-june/
LOCATION:Love Park\, 1500 Arch Street\, Philadelphia\, PA\, 19102\, United States
END:VEVENT
BEGIN:VEVENT
DTSTART;TZID=UTC:20220610T183000
DTEND;TZID=UTC:20220610T213000
DTSTAMP:20260421T003406
CREATED:20220514T010945Z
LAST-MODIFIED:20220515T052914Z
UID:1494-1654885800-1654896600@shekhinahb.org
SUMMARY:After Work Sessions at the Waterfront (06.10.22)
DESCRIPTION:
URL:https://shekhinahb.org/event/after-work-sessions-at-the-waterfront-06-10-22/
LOCATION:Spruce Street Harbor Park\, 301 South Christopher Columbus Boulevard\, Philadelphia\, PA\, 19106
END:VEVENT
BEGIN:VEVENT
DTSTART;TZID=UTC:20220608T180000
DTEND;TZID=UTC:20220608T210000
DTSTAMP:20260421T003406
CREATED:20220527T215627Z
LAST-MODIFIED:20220527T215627Z
UID:1533-1654711200-1654722000@shekhinahb.org
SUMMARY:Delaware River Waterfront Promenade Fundraiser Event
DESCRIPTION:
URL:https://shekhinahb.org/event/delaware-river-waterfront-promenade-fundraiser-event/
LOCATION:Penn’s Landing\, 121 N. Columbus Blvd\, Philadelphia\, PA\, 19106
END:VEVENT
BEGIN:VEVENT
DTSTART;TZID=UTC:20220608T120000
DTEND;TZID=UTC:20220608T130000
DTSTAMP:20260421T003406
CREATED:20220508T000308Z
LAST-MODIFIED:20220508T000308Z
UID:1488-1654689600-1654693200@shekhinahb.org
SUMMARY:Live @ Lunch at Dilworth Park featuring Shekhinah B. (June 8\, 2022)
DESCRIPTION:
URL:https://shekhinahb.org/event/live-lunch-at-dilworth-park-featuring-shekhinah-b-june-8-2022/
LOCATION:Dilworth Plaza\, 1 S 15th St\, Philadelphia\, PA\, 19102\, United States
END:VEVENT
BEGIN:VEVENT
DTSTART;TZID=UTC:20220605T160000
DTEND;TZID=UTC:20220605T180000
DTSTAMP:20260421T003406
CREATED:20211230T033644Z
LAST-MODIFIED:20211230T033644Z
UID:1380-1654444800-1654452000@shekhinahb.org
SUMMARY:Behind the Curtain (06.05.22)
DESCRIPTION:
URL:https://shekhinahb.org/event/behind-the-curtain-06-05-22/
LOCATION:The Rotunda\, 4014 Walnut Street\, Philadelphia\, PA\, 19104\, United States
END:VEVENT
BEGIN:VEVENT
DTSTART;TZID=UTC:20220604T183000
DTEND;TZID=UTC:20220604T213000
DTSTAMP:20260421T003406
CREATED:20220514T010559Z
LAST-MODIFIED:20220527T183139Z
UID:1492-1654367400-1654378200@shekhinahb.org
SUMMARY:After Work Sessions at the Waterfront (06.04.22)
DESCRIPTION:
URL:https://shekhinahb.org/event/after-work-sessions-at-the-waterfront-06-04-22/
LOCATION:Spruce Street Harbor Park\, 301 South Christopher Columbus Boulevard\, Philadelphia\, PA\, 19106
END:VEVENT
BEGIN:VEVENT
DTSTART;TZID=UTC:20220529T140000
DTEND;TZID=UTC:20220529T170000
DTSTAMP:20260421T003406
CREATED:20220319T054515Z
LAST-MODIFIED:20220319T054515Z
UID:1409-1653832800-1653843600@shekhinahb.org
SUMMARY:Vocalists Workshop: Get Your Questions Answered & Sing with Ella Gahnt
DESCRIPTION:
URL:https://shekhinahb.org/event/vocalists-workshop-get-your-questions-answered-sing-with-ella-gahnt/
LOCATION:The Rotunda\, 4014 Walnut Street\, Philadelphia\, PA\, 19104\, United States
END:VEVENT
BEGIN:VEVENT
DTSTART;TZID=UTC:20220520T160000
DTEND;TZID=UTC:20220520T180000
DTSTAMP:20260421T003406
CREATED:20220419T011738Z
LAST-MODIFIED:20220419T011738Z
UID:1459-1653062400-1653069600@shekhinahb.org
SUMMARY:Sistah Soul Series 2022 (May)
DESCRIPTION:
URL:https://shekhinahb.org/event/sistah-soul-series-2022-may/
LOCATION:Love Park\, 1500 Arch Street\, Philadelphia\, PA\, 19102\, United States
END:VEVENT
BEGIN:VEVENT
DTSTART;TZID=UTC:20220501T160000
DTEND;TZID=UTC:20220501T180000
DTSTAMP:20260421T003406
CREATED:20211230T033404Z
LAST-MODIFIED:20211230T033404Z
UID:1378-1651420800-1651428000@shekhinahb.org
SUMMARY:Behind the Curtain (05.01.22)
DESCRIPTION:
URL:https://shekhinahb.org/event/behind-the-curtain-05-01-22/
LOCATION:The Rotunda\, 4014 Walnut Street\, Philadelphia\, PA\, 19104\, United States
END:VEVENT
BEGIN:VEVENT
DTSTART;TZID=UTC:20220429T180000
DTEND;TZID=UTC:20220429T180000
DTSTAMP:20260421T003406
CREATED:20220407T213644Z
LAST-MODIFIED:20220407T215029Z
UID:1429-1651255200-1651255200@shekhinahb.org
SUMMARY:The Tammi Terrell Video Project - (Virtual Screening)
DESCRIPTION:A  docu-style video project highlighting the life and legacy of Tammi Terrell. A Philadelphia native and legend most notably with her melodic vocal style and duet performances with Marvin Gaye. This video project was made possible by the Black Music City Grant from REC Philly. Total running time 24-Minutes. Director & Editor – Shekhinah B. Guitar Accompanist – Warren Mobley Supporting Vocals – Ella Gahnt Sistahs Attune (Vocalists) – Monica Fleurette\, Michelle Ray\, Ella Gahnt\, & Shekhinah B. Keyboard Accompanist – Aaron Graves Videographer – Jason Fifield (Slife Productions) Interviewee #1 – Alfa Anderson Interviewee #2 – Eluriel ‘Tinkr’ Barfield Sponsors – WRTI | WXPN | REC Philly | University of Pennsylvania
URL:https://shekhinahb.org/event/the-tammi-terrell-video-project-virtual-screening/
LOCATION:PA
END:VEVENT
BEGIN:VEVENT
DTSTART;TZID=UTC:20220428T190000
DTEND;TZID=UTC:20220428T220000
DTSTAMP:20260421T003406
CREATED:20220301T061830Z
LAST-MODIFIED:20220319T231053Z
UID:1403-1651172400-1651183200@shekhinahb.org
SUMMARY:Gimme That Music w/Lady Alma & Vertical Current Hosted by Shekhinah B.
DESCRIPTION:
URL:https://shekhinahb.org/event/gimme-that-music-w-lady-alma-vertical-current-hosted-by-shekhinah-b/
LOCATION:World Cafe Live\, 3025 Walnut Street\, Philadelphia\, PA\, 19104\, United States
END:VEVENT
BEGIN:VEVENT
DTSTART;TZID=UTC:20220427T183000
DTEND;TZID=UTC:20220427T193000
DTSTAMP:20260421T003406
CREATED:20211229T223706Z
LAST-MODIFIED:20220322T232449Z
UID:1373-1651084200-1651087800@shekhinahb.org
SUMMARY:****POSTPONED**** Art Eco Series 22 (Securing Opportunities)
DESCRIPTION:
URL:https://shekhinahb.org/event/art-eco-series-22-securing-opportunities/
LOCATION:PA
END:VEVENT
BEGIN:VEVENT
DTSTART;TZID=UTC:20220410T150000
DTEND;TZID=UTC:20220410T150000
DTSTAMP:20260421T003406
CREATED:20220407T210917Z
LAST-MODIFIED:20220407T211720Z
UID:1415-1649602800-1649602800@shekhinahb.org
SUMMARY:Rehearsing Philadelphia Orchestra - Shekhinah B. (Vox)
DESCRIPTION:Ticket Info\nAdmission is free. \nWith new commissions by:\nAnn Carlson\nAri Benjamin Meyers\nSun Ra Arkestra (Marshall Allen & David Middleton)\nUrsula Rucker\nXenia Rubinos\nMusical Director: Anthony Tidd\nRehearsal Director for Ann Carlson: Ellen Gerdes \nAbout The Orchestra\nRehearsing Philadelphia introduces The Public Orchestra\, a newly founded orchestra that seeks to represent the cultural and sonic diversity of Philadelphia and challenge western concepts of what a symphony orchestra can be\, look and sound like. Fifty musicians present five new works expressly composed for them by a group of local and international artists. These performances take the form of open public rehearsals over two evenings and an afternoon at Cherry Street Pier. The orchestra includes instrumentation and musical practices from bandoneon to the oud\, from DJing to French horn\, from electric guitar to Korean percussion. \nThe Public Orchestra Manifesto by Ari Benjamin Meyers can be found here. \nLearn about the artists of The Public Orchestra here. \nAbout Rehearsing Philadelphia:\nThis is a city-wide project exploring the question “How can we be together?” with music as the medium for exploration. It is titled “Rehearsing Philadelphia” to emphasize the nature of modern life—in a constant state of practice and rehearsal. The idea of rehearsing until perfection and then performing does not reflect how most of us live. We embrace the rehearsal process as the way in which people learn to come together\, sometimes in tension and conflict and sometimes with the intention of finding commonalities and ways to live and make music side by side.
URL:https://shekhinahb.org/event/rehearsing-philadelphia-orchestra-shekhinah-b-vox-open-rehearsal/
LOCATION:Cherry Street Pier\, 121 N. Columbus Blvd\, Philadelphia\, PA\, 19106\, United States
END:VEVENT
BEGIN:VEVENT
DTSTART;TZID=UTC:20220409T200000
DTEND;TZID=UTC:20220409T200000
DTSTAMP:20260421T003406
CREATED:20220407T211245Z
LAST-MODIFIED:20220407T211802Z
UID:1421-1649534400-1649534400@shekhinahb.org
SUMMARY:Rehearsing Philadelphia Orchestra - Shekhinah B. - Vox
DESCRIPTION:Rehearsing Philadelphia Orchestra Shekhinah B. (Vox)\nTicket Info\nAdmission is free. \nWith new commissions by:\nAnn Carlson\nAri Benjamin Meyers\nSun Ra Arkestra (Marshall Allen & David Middleton)\nUrsula Rucker\nXenia Rubinos\nMusical Director: Anthony Tidd\nRehearsal Director for Ann Carlson: Ellen Gerdes \nAbout The Orchestra\nRehearsing Philadelphia introduces The Public Orchestra\, a newly founded orchestra that seeks to represent the cultural and sonic diversity of Philadelphia and challenge western concepts of what a symphony orchestra can be\, look and sound like. Fifty musicians present five new works expressly composed for them by a group of local and international artists. These performances take the form of open public rehearsals over two evenings and an afternoon at Cherry Street Pier. The orchestra includes instrumentation and musical practices from bandoneon to the oud\, from DJing to French horn\, and from electric guitar to Korean percussion. \nThe Public Orchestra Manifesto by Ari Benjamin Meyers can be found here. \nLearn about the artists of The Public Orchestra here. \nAbout Rehearsing Philadelphia:\nThis is a city-wide project exploring the question “How can we be together?” with music as the medium for exploration. It is titled “Rehearsing Philadelphia” to emphasize the nature of modern life—in a constant state of practice and rehearsal. The idea of rehearsing until perfection and then performing does not reflect how most of us live. We embrace the rehearsal process as the way in which people learn to come together\, sometimes in tension and conflict and sometimes with the intention of finding commonalities and ways to live and make music side by side.
URL:https://shekhinahb.org/event/rehearsing-philadelphia-orchestra-shekhinah-b-vox-open-rehearsal-3/
LOCATION:Cherry Street Pier\, 121 N. Columbus Blvd\, Philadelphia\, PA\, 19106\, United States
END:VEVENT
BEGIN:VEVENT
DTSTART;TZID=UTC:20220408T200000
DTEND;TZID=UTC:20220408T200000
DTSTAMP:20260421T003406
CREATED:20220407T211055Z
LAST-MODIFIED:20220407T211841Z
UID:1419-1649448000-1649448000@shekhinahb.org
SUMMARY:Rehearsing Philadelphia Orchestra - Shekhinah B. - Vox
DESCRIPTION:Rehearsing Philadelphia Orchestra Shekhinah B. (Vox)\nTicket Info\nAdmission is free. \nWith new commissions by:\nAnn Carlson\nAri Benjamin Meyers\nSun Ra Arkestra (Marshall Allen & David Middleton)\nUrsula Rucker\nXenia Rubinos\nMusical Director: Anthony Tidd\nRehearsal Director for Ann Carlson: Ellen Gerdes \nAbout The Orchestra\nRehearsing Philadelphia introduces The Public Orchestra\, a newly founded orchestra that seeks to represent the cultural and sonic diversity of Philadelphia and challenge western concepts of what a symphony orchestra can be\, look and sound like. Fifty musicians present five new works expressly composed for them by a group of local and international artists. These performances take the form of open public rehearsals over two evenings and an afternoon at Cherry Street Pier. The orchestra includes instrumentation and musical practices from bandoneon to the oud\, from DJing to French horn\, from electric guitar to Korean percussion. \nThe Public Orchestra Manifesto by Ari Benjamin Meyers can be found here. \nLearn about the artists of The Public Orchestra here. \nAbout Rehearsing Philadelphia:\nThis is a city-wide project exploring the question “How can we be together?” with music as the medium for exploration. It is titled “Rehearsing Philadelphia” to emphasize the nature of modern life—in a constant state of practice and rehearsal. The idea of rehearsing until perfection and then performing does not reflect how most of us live. We embrace the rehearsal process as the way in which people learn to come together\, sometimes in tension and conflict and sometimes with the intention of finding commonalities and ways to live and make music side by side.
URL:https://shekhinahb.org/event/rehearsing-philadelphia-orchestra-shekhinah-b-vox-open-rehearsal-2/
LOCATION:Cherry Street Pier\, 121 N. Columbus Blvd\, Philadelphia\, PA\, 19106\, United States
END:VEVENT
BEGIN:VEVENT
DTSTART;TZID=UTC:20220403T180000
DTEND;TZID=UTC:20220403T200000
DTSTAMP:20260421T003406
CREATED:20211230T033223Z
LAST-MODIFIED:20211230T033223Z
UID:1375-1649008800-1649016000@shekhinahb.org
SUMMARY:Behind the Curtain (04.03.22)
DESCRIPTION:
URL:https://shekhinahb.org/event/behind-the-curtain-04-03-22/
LOCATION:The Rotunda\, 4014 Walnut Street\, Philadelphia\, PA\, 19104\, United States
END:VEVENT
BEGIN:VEVENT
DTSTART;TZID=UTC:20220330T183000
DTEND;TZID=UTC:20220330T193000
DTSTAMP:20260421T003406
CREATED:20211229T223547Z
LAST-MODIFIED:20220322T232425Z
UID:1370-1648665000-1648668600@shekhinahb.org
SUMMARY:****POSTPONED**** Art Eco Series 22 (Forming a Business)
DESCRIPTION:
URL:https://shekhinahb.org/event/art-eco-series-22-forming-a-business/
LOCATION:PA
END:VEVENT
BEGIN:VEVENT
DTSTART;TZID=UTC:20220225T180000
DTEND;TZID=UTC:20220225T220000
DTSTAMP:20260421T003406
CREATED:20211129T084418Z
LAST-MODIFIED:20220202T005739Z
UID:1346-1645812000-1645826400@shekhinahb.org
SUMMARY:Music Nights (Winterfest 2022) 02.25.22 (70's Music)
DESCRIPTION:Music Nights (Winterfest 2022) is a fun-filled cozy setting of winter-friendly activities for the entire family to enjoy!
URL:https://shekhinahb.org/event/music-nights-winterfest-2022-02-25-22/
LOCATION:The Lodge\, 101 S. Columbus Blvd\, Philadelphia\, PA\, 19106\, United States
END:VEVENT
BEGIN:VEVENT
DTSTART;TZID=UTC:20220223T183000
DTEND;TZID=UTC:20220223T193000
DTSTAMP:20260421T003406
CREATED:20211229T223439Z
LAST-MODIFIED:20211229T223439Z
UID:1368-1645641000-1645644600@shekhinahb.org
SUMMARY:Art Eco Series 22 (Business Technology)
DESCRIPTION:
URL:https://shekhinahb.org/event/art-eco-series-22-business-technology/
LOCATION:PA
END:VEVENT
BEGIN:VEVENT
DTSTART;TZID=UTC:20220211T180000
DTEND;TZID=UTC:20220211T220000
DTSTAMP:20260421T003406
CREATED:20211129T084229Z
LAST-MODIFIED:20220202T005850Z
UID:1344-1644602400-1644616800@shekhinahb.org
SUMMARY:Music Nights (Winterfest 2022) 02.11.22 (House Music)
DESCRIPTION:Music Nights (Winterfest 2022) is a fun-filled cozy setting of winter-friendly activities for the entire family to enjoy!
URL:https://shekhinahb.org/event/music-nights-winterfest-2022-02-11-22/
LOCATION:The Lodge\, 101 S. Columbus Blvd\, Philadelphia\, PA\, 19106\, United States
END:VEVENT
BEGIN:VEVENT
DTSTART;TZID=UTC:20220128T180000
DTEND;TZID=UTC:20220128T220000
DTSTAMP:20260421T003406
CREATED:20211129T083947Z
LAST-MODIFIED:20220112T015613Z
UID:1340-1643392800-1643407200@shekhinahb.org
SUMMARY:***POSTPONED*** Music Nights in the Lodge (Winterfest 2022) 01.28.22
DESCRIPTION:Music Nights in the Lodge (Winterfest 2022) is a fun-filled cozy setting of artistic activities for the entire family to enjoy!
URL:https://shekhinahb.org/event/nights-at-the-lodge-winterfest-2022-2/
LOCATION:The Lodge\, 101 S. Columbus Blvd\, Philadelphia\, PA\, 19106\, United States
END:VEVENT
BEGIN:VEVENT
DTSTART;TZID=UTC:20220126T183000
DTEND;TZID=UTC:20220126T193000
DTSTAMP:20260421T003406
CREATED:20211229T223314Z
LAST-MODIFIED:20211229T223314Z
UID:1365-1643221800-1643225400@shekhinahb.org
SUMMARY:Art Eco Series 22 (Business Budgeting)
DESCRIPTION:
URL:https://shekhinahb.org/event/art-eco-series-22-business-budgeting/
LOCATION:PA
END:VEVENT
BEGIN:VEVENT
DTSTART;TZID=UTC:20220114T180000
DTEND;TZID=UTC:20220114T220000
DTSTAMP:20260421T003406
CREATED:20211129T083747Z
LAST-MODIFIED:20220112T015435Z
UID:1336-1642183200-1642197600@shekhinahb.org
SUMMARY:***POSTPONED*** Music Nights in the Lodge (Winterfest 2022) 01.14.22
DESCRIPTION:Music Nights in the Lodge (Winterfest 2022) is a fun-filled cozy setting of artistic activities for the entire family to enjoy!
URL:https://shekhinahb.org/event/nights-at-the-lodge-winterfest-2022/
LOCATION:The Lodge\, 101 S. Columbus Blvd\, Philadelphia\, PA\, 19106\, United States
END:VEVENT
BEGIN:VEVENT
DTSTART;TZID=UTC:20211215T180000
DTEND;TZID=UTC:20211215T180000
DTSTAMP:20260421T003406
CREATED:20210902T004439Z
LAST-MODIFIED:20210902T004726Z
UID:1286-1639591200-1639591200@shekhinahb.org
SUMMARY:Black Art Conversations (December)
DESCRIPTION:
URL:https://shekhinahb.org/event/black-art-conversations-december/
LOCATION:The Rotunda\, 4014 Walnut Street\, Philadelphia\, PA\, 19104\, United States
END:VEVENT
END:VCALENDAR