BEGIN:VCALENDAR
VERSION:2.0
PRODID:-// - ECPv6.15.20//NONSGML v1.0//EN
CALSCALE:GREGORIAN
METHOD:PUBLISH
X-ORIGINAL-URL:https://shekhinahb.org
X-WR-CALDESC:Events for 
REFRESH-INTERVAL;VALUE=DURATION:PT1H
X-Robots-Tag:noindex
X-PUBLISHED-TTL:PT1H
BEGIN:VTIMEZONE
TZID:America/New_York
BEGIN:DAYLIGHT
TZOFFSETFROM:-0500
TZOFFSETTO:-0400
TZNAME:EDT
DTSTART:20230312T070000
END:DAYLIGHT
BEGIN:STANDARD
TZOFFSETFROM:-0400
TZOFFSETTO:-0500
TZNAME:EST
DTSTART:20231105T060000
END:STANDARD
BEGIN:DAYLIGHT
TZOFFSETFROM:-0500
TZOFFSETTO:-0400
TZNAME:EDT
DTSTART:20240310T070000
END:DAYLIGHT
BEGIN:STANDARD
TZOFFSETFROM:-0400
TZOFFSETTO:-0500
TZNAME:EST
DTSTART:20241103T060000
END:STANDARD
BEGIN:DAYLIGHT
TZOFFSETFROM:-0500
TZOFFSETTO:-0400
TZNAME:EDT
DTSTART:20250309T070000
END:DAYLIGHT
BEGIN:STANDARD
TZOFFSETFROM:-0400
TZOFFSETTO:-0500
TZNAME:EST
DTSTART:20251102T060000
END:STANDARD
END:VTIMEZONE
BEGIN:VEVENT
DTSTART;TZID=America/New_York:20240920T193000
DTEND;TZID=America/New_York:20240920T220000
DTSTAMP:20260420T014312
CREATED:20240421T225955Z
LAST-MODIFIED:20240630T205955Z
UID:2247-1726860600-1726869600@shekhinahb.org
SUMMARY:After Work Sessions at the Waterfront 2024
DESCRIPTION:
URL:https://shekhinahb.org/event/after-work-sessions-at-the-waterfront-2024-18/
LOCATION:Spruce Street Harbor Park\, 301 South Christopher Columbus Boulevard\, Philadelphia\, PA\, 19106
END:VEVENT
BEGIN:VEVENT
DTSTART;TZID=America/New_York:20240919T120000
DTEND;TZID=America/New_York:20240919T130000
DTSTAMP:20260420T014312
CREATED:20240807T231044Z
LAST-MODIFIED:20240807T233637Z
UID:2328-1726747200-1726750800@shekhinahb.org
SUMMARY:Live @ Lunch feat. Rico Anderson (Curated & Hosted by Shekhinah B.)
DESCRIPTION:
URL:https://shekhinahb.org/event/live-lunch-feat-rico-anderson-curated-hosted-by-shekhinah-b/
LOCATION:Dilworth Plaza\, 1 S 15th St\, Philadelphia\, PA\, 19102\, United States
END:VEVENT
BEGIN:VEVENT
DTSTART;TZID=America/New_York:20240918T120000
DTEND;TZID=America/New_York:20240918T130000
DTSTAMP:20260420T014312
CREATED:20240807T230913Z
LAST-MODIFIED:20240807T233647Z
UID:2326-1726660800-1726664400@shekhinahb.org
SUMMARY:Live @ Lunch feat. Shekhinah B. (Curated by The WCE\, Inc.)
DESCRIPTION:
URL:https://shekhinahb.org/event/live-lunch-feat-shekhinah-b-curated-by-the-wce-inc/
LOCATION:Dilworth Plaza\, 1 S 15th St\, Philadelphia\, PA\, 19102\, United States
END:VEVENT
BEGIN:VEVENT
DTSTART;TZID=America/New_York:20240918T120000
DTEND;TZID=America/New_York:20240918T130000
DTSTAMP:20260420T014312
CREATED:20240630T211307Z
LAST-MODIFIED:20240807T233655Z
UID:2305-1726660800-1726664400@shekhinahb.org
SUMMARY:Live @ Lunch Featuring Shekhinah B.
DESCRIPTION:Featuring Shekhinah B.
URL:https://shekhinahb.org/event/live-lunch-featuring-shekhinah-b-2/
LOCATION:Dilworth Plaza\, 1 S 15th St\, Philadelphia\, PA\, 19102\, United States
END:VEVENT
BEGIN:VEVENT
DTSTART;TZID=America/New_York:20240913T193000
DTEND;TZID=America/New_York:20240913T220000
DTSTAMP:20260420T014312
CREATED:20240421T225727Z
LAST-MODIFIED:20240630T205921Z
UID:2245-1726255800-1726264800@shekhinahb.org
SUMMARY:After Work Sessions at the Waterfront 2024
DESCRIPTION:
URL:https://shekhinahb.org/event/after-work-sessions-at-the-waterfront-2024-17/
LOCATION:Spruce Street Harbor Park\, 301 South Christopher Columbus Boulevard\, Philadelphia\, PA\, 19106
END:VEVENT
BEGIN:VEVENT
DTSTART;TZID=America/New_York:20240912T120000
DTEND;TZID=America/New_York:20240912T130000
DTSTAMP:20260420T014312
CREATED:20240807T225937Z
LAST-MODIFIED:20240807T233704Z
UID:2324-1726142400-1726146000@shekhinahb.org
SUMMARY:Live @ Lunch feat. Michelle Ray (Curated & Hosted by Shekhinah B.)
DESCRIPTION:
URL:https://shekhinahb.org/event/live-lunch-feat-michelle-ray-curated-hosted-by-shekhinah-b/
LOCATION:Dilworth Plaza\, 1 S 15th St\, Philadelphia\, PA\, 19102\, United States
END:VEVENT
BEGIN:VEVENT
DTSTART;TZID=America/New_York:20240911T160000
DTEND;TZID=America/New_York:20240911T183000
DTSTAMP:20260420T014312
CREATED:20240806T184650Z
LAST-MODIFIED:20240806T184650Z
UID:2312-1726070400-1726079400@shekhinahb.org
SUMMARY:AI Demystified: Essential Insights for Artists
DESCRIPTION:
URL:https://shekhinahb.org/event/ai-demystified-essential-insights-for-artists/
LOCATION:Stradley Ronon Stevens and Young\, 2005 Market Street #2600\, Philadelphia\, PA\, 19103
END:VEVENT
BEGIN:VEVENT
DTSTART;TZID=America/New_York:20240911T120000
DTEND;TZID=America/New_York:20240911T130000
DTSTAMP:20260420T014312
CREATED:20240807T225336Z
LAST-MODIFIED:20240807T233712Z
UID:2322-1726056000-1726059600@shekhinahb.org
SUMMARY:Live @ Lunch feat. Kharisma Mcllwaine (Curated & Hosted by Shekhinah B.)
DESCRIPTION:
URL:https://shekhinahb.org/event/live-lunch-feat-kharisma-mcllwaine-curated-hosted-by-shekhinah-b/
LOCATION:Dilworth Plaza\, 1 S 15th St\, Philadelphia\, PA\, 19102\, United States
END:VEVENT
BEGIN:VEVENT
DTSTART;TZID=America/New_York:20240906T193000
DTEND;TZID=America/New_York:20240906T220000
DTSTAMP:20260420T014312
CREATED:20240421T225458Z
LAST-MODIFIED:20240630T205816Z
UID:2243-1725651000-1725660000@shekhinahb.org
SUMMARY:After Work Sessions at the Waterfront 2024
DESCRIPTION:
URL:https://shekhinahb.org/event/after-work-sessions-at-the-waterfront-2024-16/
LOCATION:Spruce Street Harbor Park\, 301 South Christopher Columbus Boulevard\, Philadelphia\, PA\, 19106
END:VEVENT
BEGIN:VEVENT
DTSTART;TZID=America/New_York:20240906T190000
DTEND;TZID=America/New_York:20240906T220000
DTSTAMP:20260420T014312
CREATED:20240418T203959Z
LAST-MODIFIED:20240421T220747Z
UID:2206-1725649200-1725660000@shekhinahb.org
SUMMARY:Sistah Soul Series 2024 Feat. Patrice Hawthorne
DESCRIPTION:
URL:https://shekhinahb.org/event/sistah-soul-series-2024-feat-patrice-hawthorne/
LOCATION:Cherry Street Pier\, 121 N. Columbus Blvd\, Philadelphia\, PA\, 19106\, United States
END:VEVENT
BEGIN:VEVENT
DTSTART;TZID=America/New_York:20240905T120000
DTEND;TZID=America/New_York:20240905T130000
DTSTAMP:20260420T014312
CREATED:20240807T224921Z
LAST-MODIFIED:20240807T233724Z
UID:2320-1725537600-1725541200@shekhinahb.org
SUMMARY:Live @ Lunch feat. Ashley Scott (Curated & Hosted by Shekhinah B.)
DESCRIPTION:
URL:https://shekhinahb.org/event/live-lunch-feat-ashley-scott-curated-hosted-by-shekhinah-b/
LOCATION:Dilworth Plaza\, 1 S 15th St\, Philadelphia\, PA\, 19102\, United States
END:VEVENT
BEGIN:VEVENT
DTSTART;TZID=America/New_York:20240904T120000
DTEND;TZID=America/New_York:20240904T130000
DTSTAMP:20260420T014312
CREATED:20240807T224735Z
LAST-MODIFIED:20240807T233736Z
UID:2318-1725451200-1725454800@shekhinahb.org
SUMMARY:Live @ Lunch feat. Patrice Hawthorne (Curated & Hosted by Shekhinah B.)
DESCRIPTION:
URL:https://shekhinahb.org/event/live-lunch-feat-patrice-hawthorne-curated-hosted-by-shekhinah-b/
LOCATION:Dilworth Plaza\, 1 S 15th St\, Philadelphia\, PA\, 19102\, United States
END:VEVENT
BEGIN:VEVENT
DTSTART;TZID=America/New_York:20240830T193000
DTEND;TZID=America/New_York:20240830T220000
DTSTAMP:20260420T014312
CREATED:20240421T225240Z
LAST-MODIFIED:20240630T205706Z
UID:2241-1725046200-1725055200@shekhinahb.org
SUMMARY:After Work Sessions at the Waterfront 2024
DESCRIPTION:
URL:https://shekhinahb.org/event/after-work-sessions-at-the-waterfront-2024-15/
LOCATION:Spruce Street Harbor Park\, 301 South Christopher Columbus Boulevard\, Philadelphia\, PA\, 19106
END:VEVENT
BEGIN:VEVENT
DTSTART;TZID=America/New_York:20240829T180000
DTEND;TZID=America/New_York:20240829T193000
DTSTAMP:20260420T014312
CREATED:20240630T210850Z
LAST-MODIFIED:20240630T210850Z
UID:2302-1724954400-1724959800@shekhinahb.org
SUMMARY:Performance for Jazz Bridge Summer Series
DESCRIPTION:Featuring Shekhinah B.
URL:https://shekhinahb.org/event/performance-for-jazz-bridge-summer-series/
LOCATION:4862-70 Parkside Ave.\, 4862-70 Parkside Ave.\, Philadelphia\, PA\, 19131
END:VEVENT
BEGIN:VEVENT
DTSTART;TZID=America/New_York:20240823T193000
DTEND;TZID=America/New_York:20240823T220000
DTSTAMP:20260420T014312
CREATED:20240421T225054Z
LAST-MODIFIED:20240630T205622Z
UID:2239-1724441400-1724450400@shekhinahb.org
SUMMARY:After Work Sessions at the Waterfront 2024
DESCRIPTION:
URL:https://shekhinahb.org/event/after-work-sessions-at-the-waterfront-2024-14/
LOCATION:Spruce Street Harbor Park\, 301 South Christopher Columbus Boulevard\, Philadelphia\, PA\, 19106
END:VEVENT
BEGIN:VEVENT
DTSTART;TZID=America/New_York:20240816T193000
DTEND;TZID=America/New_York:20240816T220000
DTSTAMP:20260420T014312
CREATED:20240421T224837Z
LAST-MODIFIED:20240630T205544Z
UID:2237-1723836600-1723845600@shekhinahb.org
SUMMARY:After Work Sessions at the Waterfront 2024
DESCRIPTION:
URL:https://shekhinahb.org/event/after-work-sessions-at-the-waterfront-2024-13/
LOCATION:Spruce Street Harbor Park\, 301 South Christopher Columbus Boulevard\, Philadelphia\, PA\, 19106
END:VEVENT
BEGIN:VEVENT
DTSTART;TZID=America/New_York:20240809T193000
DTEND;TZID=America/New_York:20240809T220000
DTSTAMP:20260420T014312
CREATED:20240421T224652Z
LAST-MODIFIED:20240807T235031Z
UID:2235-1723231800-1723240800@shekhinahb.org
SUMMARY:After Work Sessions at the Waterfront 2024 (AT CHERRY STREET PIER TONIGHT)
DESCRIPTION:(AT CHERRY STREET PIER TONIGHT ONLY)
URL:https://shekhinahb.org/event/after-work-sessions-at-the-waterfront-2024-12/
LOCATION:Cherry Street Pier\, 121 N. Columbus Blvd\, Philadelphia\, PA\, 19106\, United States
END:VEVENT
BEGIN:VEVENT
DTSTART;TZID=America/New_York:20240802T193000
DTEND;TZID=America/New_York:20240802T220000
DTSTAMP:20260420T014312
CREATED:20240421T224453Z
LAST-MODIFIED:20240630T205420Z
UID:2233-1722627000-1722636000@shekhinahb.org
SUMMARY:After Work Sessions at the Waterfront 2024
DESCRIPTION:
URL:https://shekhinahb.org/event/after-work-sessions-at-the-waterfront-2024-11/
LOCATION:Spruce Street Harbor Park\, 301 South Christopher Columbus Boulevard\, Philadelphia\, PA\, 19106
END:VEVENT
BEGIN:VEVENT
DTSTART;TZID=America/New_York:20240802T190000
DTEND;TZID=America/New_York:20240802T220000
DTSTAMP:20260420T014312
CREATED:20240418T203450Z
LAST-MODIFIED:20240421T220756Z
UID:2204-1722625200-1722636000@shekhinahb.org
SUMMARY:Sistah Soul Series 2024 Feat. Kharisma Mcllwaine
DESCRIPTION:
URL:https://shekhinahb.org/event/sistah-soul-series-2024-feat-kharisma-mcllwaine/
LOCATION:Cherry Street Pier\, 121 N. Columbus Blvd\, Philadelphia\, PA\, 19106\, United States
END:VEVENT
BEGIN:VEVENT
DTSTART;TZID=America/New_York:20240728T160000
DTEND;TZID=America/New_York:20240728T200000
DTSTAMP:20260420T014312
CREATED:20240630T204541Z
LAST-MODIFIED:20240712T230608Z
UID:2281-1722182400-1722196800@shekhinahb.org
SUMMARY:AAMP Presents: Sweet & Savory Mini Dessert Expo
DESCRIPTION:
URL:https://shekhinahb.org/event/aamp-presents-sweet-savory-mini-dessert-expo/
LOCATION:African American Musuem in Philadelphia\, 701 Arch Street\, PHILADELPHIA\, PA\, 19106\, United States
END:VEVENT
BEGIN:VEVENT
DTSTART;TZID=America/New_York:20240727T130000
DTEND;TZID=America/New_York:20240727T134500
DTSTAMP:20260420T014312
CREATED:20240630T210601Z
LAST-MODIFIED:20240630T210601Z
UID:2298-1722085200-1722087900@shekhinahb.org
SUMMARY:United Block Captains Assoc. Hosp. (UBCAH) Community Block Party
DESCRIPTION:Featuring Shekhinah B.
URL:https://shekhinahb.org/event/united-block-captains-assoc-hosp-ubcah-community-block-party/
LOCATION:4000 block of Poplar Street\, 4000 block of Poplar Street\, Philadelphia\, PA\, 19104
END:VEVENT
BEGIN:VEVENT
DTSTART;TZID=America/New_York:20240726T193000
DTEND;TZID=America/New_York:20240726T220000
DTSTAMP:20260420T014312
CREATED:20240421T224304Z
LAST-MODIFIED:20240630T205324Z
UID:2231-1722022200-1722031200@shekhinahb.org
SUMMARY:After Work Sessions at the Waterfront 2024
DESCRIPTION:
URL:https://shekhinahb.org/event/after-work-sessions-at-the-waterfront-2024-10/
LOCATION:Spruce Street Harbor Park\, 301 South Christopher Columbus Boulevard\, Philadelphia\, PA\, 19106
END:VEVENT
BEGIN:VEVENT
DTSTART;TZID=America/New_York:20240719T193000
DTEND;TZID=America/New_York:20240719T220000
DTSTAMP:20260420T014312
CREATED:20240421T223623Z
LAST-MODIFIED:20240630T205229Z
UID:2229-1721417400-1721426400@shekhinahb.org
SUMMARY:After Work Sessions at the Waterfront 2024
DESCRIPTION:
URL:https://shekhinahb.org/event/after-work-sessions-at-the-waterfront-2024-9/
LOCATION:Spruce Street Harbor Park\, 301 South Christopher Columbus Boulevard\, Philadelphia\, PA\, 19106
END:VEVENT
BEGIN:VEVENT
DTSTART;TZID=America/New_York:20240712T193000
DTEND;TZID=America/New_York:20240712T220000
DTSTAMP:20260420T014312
CREATED:20240421T223445Z
LAST-MODIFIED:20240630T205130Z
UID:2227-1720812600-1720821600@shekhinahb.org
SUMMARY:After Work Sessions at the Waterfront 2024
DESCRIPTION:
URL:https://shekhinahb.org/event/after-work-sessions-at-the-waterfront-2024-8/
LOCATION:Spruce Street Harbor Park\, 301 South Christopher Columbus Boulevard\, Philadelphia\, PA\, 19106
END:VEVENT
BEGIN:VEVENT
DTSTART;TZID=America/New_York:20240705T193000
DTEND;TZID=America/New_York:20240705T220000
DTSTAMP:20260420T014312
CREATED:20240421T223158Z
LAST-MODIFIED:20240630T205019Z
UID:2225-1720207800-1720216800@shekhinahb.org
SUMMARY:After Work Sessions at the Waterfront 2024
DESCRIPTION:
URL:https://shekhinahb.org/event/after-work-sessions-at-the-waterfront-2024-7/
LOCATION:Spruce Street Harbor Park\, 301 South Christopher Columbus Boulevard\, Philadelphia\, PA\, 19106
END:VEVENT
BEGIN:VEVENT
DTSTART;TZID=America/New_York:20240705T190000
DTEND;TZID=America/New_York:20240705T220000
DTSTAMP:20260420T014312
CREATED:20240418T202830Z
LAST-MODIFIED:20240421T220805Z
UID:2202-1720206000-1720216800@shekhinahb.org
SUMMARY:Sistah Soul Series 2024 Feat. Michelle Ray
DESCRIPTION:
URL:https://shekhinahb.org/event/sistah-soul-series-2024-feat-michelle-ray/
LOCATION:Cherry Street Pier\, 121 N. Columbus Blvd\, Philadelphia\, PA\, 19106\, United States
END:VEVENT
BEGIN:VEVENT
DTSTART;TZID=America/New_York:20240704T110000
DTEND;TZID=America/New_York:20240704T120000
DTSTAMP:20260420T014312
CREATED:20240405T022531Z
LAST-MODIFIED:20240624T142413Z
UID:2191-1720090800-1720094400@shekhinahb.org
SUMMARY:Wawa Welcome America 2024 Parade
DESCRIPTION:Wawa Welcome America 2024 Parade
URL:https://shekhinahb.org/event/wawa-welcome-america-2024-parade/
LOCATION:PA
END:VEVENT
BEGIN:VEVENT
DTSTART;TZID=America/New_York:20240628T193000
DTEND;TZID=America/New_York:20240628T220000
DTSTAMP:20260420T014312
CREATED:20240421T223005Z
LAST-MODIFIED:20240624T142537Z
UID:2223-1719603000-1719612000@shekhinahb.org
SUMMARY:After Work Sessions at the Waterfront 2024
DESCRIPTION:
URL:https://shekhinahb.org/event/after-work-sessions-at-the-waterfront-2024-6/
LOCATION:Spruce Street Harbor Park\, 301 South Christopher Columbus Boulevard\, Philadelphia\, PA\, 19106
END:VEVENT
BEGIN:VEVENT
DTSTART;TZID=America/New_York:20240621T193000
DTEND;TZID=America/New_York:20240621T223000
DTSTAMP:20260420T014312
CREATED:20240421T222459Z
LAST-MODIFIED:20240421T230443Z
UID:2219-1718998200-1719009000@shekhinahb.org
SUMMARY:After Work Sessions at the Waterfront 2024
DESCRIPTION:After Work Sessions Promo 2024
URL:https://shekhinahb.org/event/after-work-sessions-at-the-waterfront-2024-4/
LOCATION:Spruce Street Harbor Park\, 301 South Christopher Columbus Boulevard\, Philadelphia\, PA\, 19106
END:VEVENT
BEGIN:VEVENT
DTSTART;TZID=America/New_York:20240615T130000
DTEND;TZID=America/New_York:20240615T180000
DTSTAMP:20260420T014312
CREATED:20231211T000547Z
LAST-MODIFIED:20240421T220838Z
UID:2124-1718456400-1718474400@shekhinahb.org
SUMMARY:Juneteenth Wine & Arts Festival 2024 #JWAF #JWAF24
DESCRIPTION:
URL:https://shekhinahb.org/event/jwaf24/
LOCATION:Cherry Street Pier\, 121 N. Columbus Blvd\, Philadelphia\, PA\, 19106\, United States
END:VEVENT
END:VCALENDAR