BEGIN:VCALENDAR
VERSION:2.0
PRODID:-// - ECPv6.15.20//NONSGML v1.0//EN
CALSCALE:GREGORIAN
METHOD:PUBLISH
X-ORIGINAL-URL:https://shekhinahb.org
X-WR-CALDESC:Events for 
REFRESH-INTERVAL;VALUE=DURATION:PT1H
X-Robots-Tag:noindex
X-PUBLISHED-TTL:PT1H
BEGIN:VTIMEZONE
TZID:America/New_York
BEGIN:DAYLIGHT
TZOFFSETFROM:-0500
TZOFFSETTO:-0400
TZNAME:EDT
DTSTART:20240310T070000
END:DAYLIGHT
BEGIN:STANDARD
TZOFFSETFROM:-0400
TZOFFSETTO:-0500
TZNAME:EST
DTSTART:20241103T060000
END:STANDARD
BEGIN:DAYLIGHT
TZOFFSETFROM:-0500
TZOFFSETTO:-0400
TZNAME:EDT
DTSTART:20250309T070000
END:DAYLIGHT
BEGIN:STANDARD
TZOFFSETFROM:-0400
TZOFFSETTO:-0500
TZNAME:EST
DTSTART:20251102T060000
END:STANDARD
BEGIN:DAYLIGHT
TZOFFSETFROM:-0500
TZOFFSETTO:-0400
TZNAME:EDT
DTSTART:20260308T070000
END:DAYLIGHT
BEGIN:STANDARD
TZOFFSETFROM:-0400
TZOFFSETTO:-0500
TZNAME:EST
DTSTART:20261101T060000
END:STANDARD
END:VTIMEZONE
BEGIN:VEVENT
DTSTART;TZID=America/New_York:20250628T203000
DTEND;TZID=America/New_York:20250628T213000
DTSTAMP:20260420T035924
CREATED:20250617T181913Z
LAST-MODIFIED:20250617T182338Z
UID:2576-1751142600-1751146200@shekhinahb.org
SUMMARY:Sistahs Attune LIVE from ElectricLattéLand! (Virtual)
DESCRIPTION:YouTube Link \nSistahs Attune\, a project by The Women’s Coalition for Empowerment\, Inc.\, is an ongoing initiative featuring a diverse collective of emerging freelance creatives\, specializing in soulful music genres. We empower these creatives to enhance their economic prospects within the arts\, bridging the gap between art and commerce\, and fostering Afro-Centric music and expression on culturally relevant platforms. The program encompasses live performances\, workshops\, and art-related initiatives\, all aimed at boosting economic empowerment in the creative community. Sistahs Attune programming is supported in part by the Pennsylvania Council on the Arts\, a state agency funded by the Commonwealth of Pennsylvania and the National Endowment for the Arts\, a federal agency.
URL:https://shekhinahb.org/event/sistahs-attune-live-from-electriclatteland-virtual/
LOCATION:PA
END:VEVENT
BEGIN:VEVENT
DTSTART;TZID=America/New_York:20250629T160000
DTEND;TZID=America/New_York:20250629T180000
DTSTAMP:20260420T035924
CREATED:20250225T204508Z
LAST-MODIFIED:20250428T163702Z
UID:2411-1751212800-1751220000@shekhinahb.org
SUMMARY:Creatives Chat Series (June 29\, 2025)
DESCRIPTION:This project was made possible with support in part from both Creative Philadelphia & the West Philadelphia Creative Grants program\, an initiative of The Paul Robeson House & Museum and The Sachs Program for Arts Innovation\, directed by the West Philadelphia Arts Council. 
URL:https://shekhinahb.org/event/creatives-chat-series-june-29-2025/
LOCATION:The Rotunda\, 4014 Walnut Street\, Philadelphia\, PA\, 19104\, United States
END:VEVENT
BEGIN:VEVENT
DTSTART;TZID=America/New_York:20250702T120000
DTEND;TZID=America/New_York:20250702T130000
DTSTAMP:20260420T035924
CREATED:20250406T172008Z
LAST-MODIFIED:20250406T174221Z
UID:2486-1751457600-1751461200@shekhinahb.org
SUMMARY:Live @ Lunch (Kharisma)
DESCRIPTION:Enjoy your lunch break with free outdoor concerts featuring a lineup of talented local artists.  Curated by The WCE.
URL:https://shekhinahb.org/event/live-lunch-kharisma/
LOCATION:Dilworth Plaza\, 1 S 15th St\, Philadelphia\, PA\, 19102\, United States
END:VEVENT
BEGIN:VEVENT
DTSTART;TZID=America/New_York:20250709T120000
DTEND;TZID=America/New_York:20250709T130000
DTSTAMP:20260420T035924
CREATED:20250406T172342Z
LAST-MODIFIED:20250406T174213Z
UID:2488-1752062400-1752066000@shekhinahb.org
SUMMARY:Live @ Lunch (Brian Fitzy)
DESCRIPTION:Enjoy your lunch break with free outdoor concerts featuring a lineup of talented local artists.  Curated by The WCE.
URL:https://shekhinahb.org/event/live-lunch-brian-fitzy/
LOCATION:Dilworth Plaza\, 1 S 15th St\, Philadelphia\, PA\, 19102\, United States
END:VEVENT
BEGIN:VEVENT
DTSTART;TZID=America/New_York:20250711T190000
DTEND;TZID=America/New_York:20250711T220000
DTSTAMP:20260420T035924
CREATED:20250329T195315Z
LAST-MODIFIED:20250427T034042Z
UID:2455-1752260400-1752271200@shekhinahb.org
SUMMARY:Sistah Soul Series 2025 (July 11\, 2025) Masha T
DESCRIPTION:Sistah Soul Series\, a free live musical vibe each month featuring local independent vocal artists spanning diverse musical genres.\n\nThe Women’s Coalition for Empowerment\, Inc.\, hosted by Cherry Street Pier in partnership with Delaware River Waterfront Corporation\, presents Sistah Soul Series 2025!\nA live musical installment\, showcasing local creatives in the Greater Philadelphia region\, set to take place once a month from May – October 7PM – 10PM EST at Cherry Street Pier. Curated by Creative Cultural Producer Shekhinah B.\nNo Cover | Live Music | Local Artists | Summer & Fall Vibes | Family Friendly | DJ | Food & Beverages
URL:https://shekhinahb.org/event/sistah-soul-series-2025-july-11-2025/
LOCATION:Cherry Street Pier\, 121 N. Columbus Blvd\, Philadelphia\, PA\, 19106\, United States
END:VEVENT
BEGIN:VEVENT
DTSTART;TZID=America/New_York:20250711T193000
DTEND;TZID=America/New_York:20250711T220000
DTSTAMP:20260420T035924
CREATED:20250426T185741Z
LAST-MODIFIED:20250427T032928Z
UID:2511-1752262200-1752271200@shekhinahb.org
SUMMARY:After Work Sessions @ the Waterfront 2025 | DJ RocDaSpot
DESCRIPTION:
URL:https://shekhinahb.org/event/after-work-sessions-the-waterfront-2025-5/
LOCATION:Spruce Street Harbor Park\, 301 South Christopher Columbus Boulevard\, Philadelphia\, PA\, 19106
END:VEVENT
BEGIN:VEVENT
DTSTART;TZID=America/New_York:20250712T190000
DTEND;TZID=America/New_York:20250712T220000
DTSTAMP:20260420T035924
CREATED:20250428T175042Z
LAST-MODIFIED:20250428T180718Z
UID:2569-1752346800-1752357600@shekhinahb.org
SUMMARY:80s DJ Nights @ Summerfest | DJ Amber Lang
DESCRIPTION:
URL:https://shekhinahb.org/event/80s-dj-nights-summerfest-dj-reddz-2-2/
LOCATION:Blue Cross RiverRink\, 101 S. Columbus Blvd\, Philadelphia\, PA\, 19106\, United States
END:VEVENT
BEGIN:VEVENT
DTSTART;TZID=America/New_York:20250716T120000
DTEND;TZID=America/New_York:20250716T130000
DTSTAMP:20260420T035924
CREATED:20250406T172706Z
LAST-MODIFIED:20250406T174206Z
UID:2490-1752667200-1752670800@shekhinahb.org
SUMMARY:Live @ Lunch (Shekhinah B.)
DESCRIPTION:Enjoy your lunch break with free outdoor concerts featuring a lineup of talented local artists.  Curated by The WCE.
URL:https://shekhinahb.org/event/live-lunch-shekhinah-b/
LOCATION:Dilworth Plaza\, 1 S 15th St\, Philadelphia\, PA\, 19102\, United States
END:VEVENT
BEGIN:VEVENT
DTSTART;TZID=America/New_York:20250718T193000
DTEND;TZID=America/New_York:20250718T220000
DTSTAMP:20260420T035924
CREATED:20250426T190145Z
LAST-MODIFIED:20250427T032917Z
UID:2513-1752867000-1752876000@shekhinahb.org
SUMMARY:After Work Sessions @ the Waterfront 2025 | DJ Reddz
DESCRIPTION:
URL:https://shekhinahb.org/event/after-work-sessions-the-waterfront-2025-5-2/
LOCATION:Spruce Street Harbor Park\, 301 South Christopher Columbus Boulevard\, Philadelphia\, PA\, 19106
END:VEVENT
BEGIN:VEVENT
DTSTART;TZID=America/New_York:20250723T120000
DTEND;TZID=America/New_York:20250723T130000
DTSTAMP:20260420T035924
CREATED:20250406T173006Z
LAST-MODIFIED:20250406T174159Z
UID:2492-1753272000-1753275600@shekhinahb.org
SUMMARY:Live @ Lunch (Masha T.)
DESCRIPTION:Enjoy your lunch break with free outdoor concerts featuring a lineup of talented local artists.  Curated by The WCE.
URL:https://shekhinahb.org/event/live-lunch-masha-t/
LOCATION:Dilworth Plaza\, 1 S 15th St\, Philadelphia\, PA\, 19102\, United States
END:VEVENT
BEGIN:VEVENT
DTSTART;TZID=America/New_York:20250725T193000
DTEND;TZID=America/New_York:20250725T220000
DTSTAMP:20260420T035924
CREATED:20250426T190440Z
LAST-MODIFIED:20250427T032909Z
UID:2515-1753471800-1753480800@shekhinahb.org
SUMMARY:After Work Sessions @ the Waterfront 2025 | DJ Neeek Nyce
DESCRIPTION:
URL:https://shekhinahb.org/event/after-work-sessions-the-waterfront-2025-5-3/
LOCATION:Spruce Street Harbor Park\, 301 South Christopher Columbus Boulevard\, Philadelphia\, PA\, 19106
END:VEVENT
BEGIN:VEVENT
DTSTART;TZID=America/New_York:20250730T120000
DTEND;TZID=America/New_York:20250730T130000
DTSTAMP:20260420T035924
CREATED:20250406T173432Z
LAST-MODIFIED:20250726T001224Z
UID:2494-1753876800-1753880400@shekhinahb.org
SUMMARY:Live @ Lunch (Shekhinah B.)
DESCRIPTION:Enjoy your lunch break with free outdoor concerts featuring a lineup of talented local artists.  Curated by The WCE.\nFYI – Shekhinah B will be filling in for Rated Art.
URL:https://shekhinahb.org/event/live-lunch-shekhinah-b-2/
LOCATION:Dilworth Plaza\, 1 S 15th St\, Philadelphia\, PA\, 19102\, United States
END:VEVENT
BEGIN:VEVENT
DTSTART;TZID=America/New_York:20250801T190000
DTEND;TZID=America/New_York:20250801T220000
DTSTAMP:20260420T035924
CREATED:20250329T195545Z
LAST-MODIFIED:20250403T173318Z
UID:2457-1754074800-1754085600@shekhinahb.org
SUMMARY:Sistah Soul Series 2025 (August 1\, 2025)
DESCRIPTION:Sistah Soul Series\, a free live musical vibe each month featuring local independent vocal artists spanning diverse musical genres.\n\nThe Women’s Coalition for Empowerment\, Inc.\, hosted by Cherry Street Pier in partnership with Delaware River Waterfront Corporation\, presents Sistah Soul Series 2025!\nA live musical installment\, showcasing local creatives in the Greater Philadelphia region\, set to take place once a month from May – October 7PM – 10PM EST at Cherry Street Pier. Curated by Creative Cultural Producer Shekhinah B.\nNo Cover | Live Music | Local Artists | Summer & Fall Vibes | Family Friendly | DJ | Food & Beverages
URL:https://shekhinahb.org/event/sistah-soul-series-2025-august-1-2025/
LOCATION:Cherry Street Pier\, 121 N. Columbus Blvd\, Philadelphia\, PA\, 19106\, United States
END:VEVENT
BEGIN:VEVENT
DTSTART;TZID=America/New_York:20250801T193000
DTEND;TZID=America/New_York:20250801T220000
DTSTAMP:20260420T035924
CREATED:20250426T190725Z
LAST-MODIFIED:20250427T032830Z
UID:2517-1754076600-1754085600@shekhinahb.org
SUMMARY:After Work Sessions @ the Waterfront 2025 | DJ Reddz
DESCRIPTION:
URL:https://shekhinahb.org/event/after-work-sessions-the-waterfront-2025-5-4/
LOCATION:Spruce Street Harbor Park\, 301 South Christopher Columbus Boulevard\, Philadelphia\, PA\, 19106
END:VEVENT
BEGIN:VEVENT
DTSTART;TZID=America/New_York:20250808T193000
DTEND;TZID=America/New_York:20250808T220000
DTSTAMP:20260420T035924
CREATED:20250426T191004Z
LAST-MODIFIED:20250427T032821Z
UID:2519-1754681400-1754690400@shekhinahb.org
SUMMARY:After Work Sessions @ the Waterfront 2025 | DJ RocDaSpot
DESCRIPTION:
URL:https://shekhinahb.org/event/after-work-sessions-the-waterfront-2025-5-5/
LOCATION:Spruce Street Harbor Park\, 301 South Christopher Columbus Boulevard\, Philadelphia\, PA\, 19106
END:VEVENT
BEGIN:VEVENT
DTSTART;TZID=America/New_York:20250815T193000
DTEND;TZID=America/New_York:20250815T220000
DTSTAMP:20260420T035924
CREATED:20250426T191254Z
LAST-MODIFIED:20250427T032812Z
UID:2521-1755286200-1755295200@shekhinahb.org
SUMMARY:After Work Sessions @ the Waterfront 2025 | DJ Reddz
DESCRIPTION:
URL:https://shekhinahb.org/event/after-work-sessions-the-waterfront-2025-5-6/
LOCATION:Spruce Street Harbor Park\, 301 South Christopher Columbus Boulevard\, Philadelphia\, PA\, 19106
END:VEVENT
BEGIN:VEVENT
DTSTART;TZID=America/New_York:20250816T190000
DTEND;TZID=America/New_York:20250816T220000
DTSTAMP:20260420T035924
CREATED:20250428T175342Z
LAST-MODIFIED:20250428T180639Z
UID:2571-1755370800-1755381600@shekhinahb.org
SUMMARY:80s DJ Nights @ Summerfest | DJ RocDaSpot
DESCRIPTION:
URL:https://shekhinahb.org/event/80s-dj-nights-summerfest-dj-rocdaspot-2/
LOCATION:Blue Cross RiverRink\, 101 S. Columbus Blvd\, Philadelphia\, PA\, 19106\, United States
END:VEVENT
BEGIN:VEVENT
DTSTART;TZID=America/New_York:20250822T193000
DTEND;TZID=America/New_York:20250822T220000
DTSTAMP:20260420T035924
CREATED:20250426T191550Z
LAST-MODIFIED:20250427T032748Z
UID:2523-1755891000-1755900000@shekhinahb.org
SUMMARY:After Work Sessions @ the Waterfront 2025 | DJ Neeek Nyce
DESCRIPTION:
URL:https://shekhinahb.org/event/after-work-sessions-the-waterfront-2025-5-6-2/
LOCATION:Spruce Street Harbor Park\, 301 South Christopher Columbus Boulevard\, Philadelphia\, PA\, 19106
END:VEVENT
BEGIN:VEVENT
DTSTART;TZID=America/New_York:20250829T193000
DTEND;TZID=America/New_York:20250829T220000
DTSTAMP:20260420T035924
CREATED:20250426T191827Z
LAST-MODIFIED:20250427T032741Z
UID:2525-1756495800-1756504800@shekhinahb.org
SUMMARY:After Work Sessions @ the Waterfront 2025 | DJ RocDaSpot
DESCRIPTION:
URL:https://shekhinahb.org/event/after-work-sessions-the-waterfront-2025-5-6-3/
LOCATION:Spruce Street Harbor Park\, 301 South Christopher Columbus Boulevard\, Philadelphia\, PA\, 19106
END:VEVENT
BEGIN:VEVENT
DTSTART;TZID=America/New_York:20250905T190000
DTEND;TZID=America/New_York:20250905T220000
DTSTAMP:20260420T035924
CREATED:20250329T195911Z
LAST-MODIFIED:20250427T034000Z
UID:2459-1757098800-1757109600@shekhinahb.org
SUMMARY:Sistah Soul Series 2025 (September 5\, 2025) | Michelle "Songbird" Ray
DESCRIPTION:Sistah Soul Series\, a free live musical vibe each month featuring local independent vocal artists spanning diverse musical genres.\n\nThe Women’s Coalition for Empowerment\, Inc.\, hosted by Cherry Street Pier in partnership with Delaware River Waterfront Corporation\, presents Sistah Soul Series 2025!\nA live musical installment\, showcasing local creatives in the Greater Philadelphia region\, set to take place once a month from May – October 7PM – 10PM EST at Cherry Street Pier. Curated by Creative Cultural Producer Shekhinah B.\nNo Cover | Live Music | Local Artists | Summer & Fall Vibes | Family Friendly | DJ | Food & Beverages
URL:https://shekhinahb.org/event/sistah-soul-series-2025-september-5-2025/
LOCATION:Cherry Street Pier\, 121 N. Columbus Blvd\, Philadelphia\, PA\, 19106\, United States
END:VEVENT
BEGIN:VEVENT
DTSTART;TZID=America/New_York:20250905T193000
DTEND;TZID=America/New_York:20250905T220000
DTSTAMP:20260420T035924
CREATED:20250426T192119Z
LAST-MODIFIED:20250427T032726Z
UID:2527-1757100600-1757109600@shekhinahb.org
SUMMARY:After Work Sessions @ the Waterfront 2025 | DJ Reddz
DESCRIPTION:
URL:https://shekhinahb.org/event/after-work-sessions-the-waterfront-2025-5-6-4/
LOCATION:Spruce Street Harbor Park\, 301 South Christopher Columbus Boulevard\, Philadelphia\, PA\, 19106
END:VEVENT
BEGIN:VEVENT
DTSTART;TZID=America/New_York:20250912T193000
DTEND;TZID=America/New_York:20250912T220000
DTSTAMP:20260420T035924
CREATED:20250426T192408Z
LAST-MODIFIED:20250427T032715Z
UID:2529-1757705400-1757714400@shekhinahb.org
SUMMARY:After Work Sessions @ the Waterfront 2025 | DJ RocDaSpot
DESCRIPTION:
URL:https://shekhinahb.org/event/after-work-sessions-the-waterfront-2025-5-6-5/
LOCATION:Spruce Street Harbor Park\, 301 South Christopher Columbus Boulevard\, Philadelphia\, PA\, 19106
END:VEVENT
BEGIN:VEVENT
DTSTART;TZID=America/New_York:20250919T190000
DTEND;TZID=America/New_York:20250919T220000
DTSTAMP:20260420T035924
CREATED:20250827T203419Z
LAST-MODIFIED:20250827T203419Z
UID:2599-1758308400-1758319200@shekhinahb.org
SUMMARY:Caribbean Business & Arts Networking Mixer
DESCRIPTION:
URL:https://shekhinahb.org/event/caribbean-business-arts-networking-mixer/
LOCATION:Martha’s Kitchen & Events LLC\, 723 Oak Lane Ave\, Philadelphia\, PA\, 19126
END:VEVENT
BEGIN:VEVENT
DTSTART;TZID=America/New_York:20250919T193000
DTEND;TZID=America/New_York:20250919T220000
DTSTAMP:20260420T035924
CREATED:20250426T192708Z
LAST-MODIFIED:20250427T032431Z
UID:2531-1758310200-1758319200@shekhinahb.org
SUMMARY:After Work Sessions @ the Waterfront 2025 | DJ RocDaSpot
DESCRIPTION:
URL:https://shekhinahb.org/event/after-work-sessions-the-waterfront-2025-5-6-6/
LOCATION:Spruce Street Harbor Park\, 301 South Christopher Columbus Boulevard\, Philadelphia\, PA\, 19106
END:VEVENT
BEGIN:VEVENT
DTSTART;TZID=America/New_York:20250924T180000
DTEND;TZID=America/New_York:20250924T200000
DTSTAMP:20260420T035924
CREATED:20250903T211057Z
LAST-MODIFIED:20250903T211446Z
UID:2605-1758736800-1758744000@shekhinahb.org
SUMMARY:Free Grant Writing Workshop Part III (Proposal & Budget Review)
DESCRIPTION:📢 Free Workshop!🎨 Art Economic Empowerment: Grant Writing Part III – Proposal & Budget Review📍 CultureWorks Philadelphia🗓 09.24.25 | ⏰ 6–8 PM EST
URL:https://shekhinahb.org/event/free-grant-writing-workshop-part-iii-proposal-budget-review/
LOCATION:CultureWorks Greater Philadelphia\, 1315 WALNUT ST\, PHILADELPHIA\, PA\, 19107\, United States
END:VEVENT
BEGIN:VEVENT
DTSTART;TZID=America/New_York:20250926T193000
DTEND;TZID=America/New_York:20250926T220000
DTSTAMP:20260420T035924
CREATED:20250426T192950Z
LAST-MODIFIED:20250427T032423Z
UID:2533-1758915000-1758924000@shekhinahb.org
SUMMARY:After Work Sessions @ the Waterfront 2025 | DJ Reddz
DESCRIPTION:
URL:https://shekhinahb.org/event/after-work-sessions-the-waterfront-2025-5-6-6-2/
LOCATION:Spruce Street Harbor Park\, 301 South Christopher Columbus Boulevard\, Philadelphia\, PA\, 19106
END:VEVENT
BEGIN:VEVENT
DTSTART;TZID=America/New_York:20250928T160000
DTEND;TZID=America/New_York:20250928T180000
DTSTAMP:20260420T035924
CREATED:20250225T204859Z
LAST-MODIFIED:20250428T163736Z
UID:2413-1759075200-1759082400@shekhinahb.org
SUMMARY:Creatives Chat Series (September 28\, 2025)
DESCRIPTION:This project was made possible with support in part from both Creative Philadelphia & the West Philadelphia Creative Grants program\, an initiative of The Paul Robeson House & Museum and The Sachs Program for Arts Innovation\, directed by the West Philadelphia Arts Council. 
URL:https://shekhinahb.org/event/creatives-chat-series-september-28-2025/
LOCATION:The Rotunda\, 4014 Walnut Street\, Philadelphia\, PA\, 19104\, United States
END:VEVENT
BEGIN:VEVENT
DTSTART;TZID=America/New_York:20251003T190000
DTEND;TZID=America/New_York:20251003T220000
DTSTAMP:20260420T035924
CREATED:20250329T200340Z
LAST-MODIFIED:20250427T033941Z
UID:2461-1759518000-1759528800@shekhinahb.org
SUMMARY:Sistah Soul Series (October 3\, 2025) | Patrice Hawthorne
DESCRIPTION:Sistah Soul Series\, a free live musical vibe each month featuring local independent vocal artists spanning diverse musical genres.\n\nThe Women’s Coalition for Empowerment\, Inc.\, hosted by Cherry Street Pier in partnership with Delaware River Waterfront Corporation\, presents Sistah Soul Series 2025!\nA live musical installment\, showcasing local creatives in the Greater Philadelphia region\, set to take place once a month from May – October 7PM – 10PM EST at Cherry Street Pier. Curated by Creative Cultural Producer Shekhinah B.\nNo Cover | Live Music | Local Artists | Summer & Fall Vibes | Family Friendly | DJ | Food & Beverages
URL:https://shekhinahb.org/event/sistah-soul-series-2025/
LOCATION:Cherry Street Pier\, 121 N. Columbus Blvd\, Philadelphia\, PA\, 19106\, United States
END:VEVENT
BEGIN:VEVENT
DTSTART;TZID=America/New_York:20251003T190000
DTEND;TZID=America/New_York:20251003T220000
DTSTAMP:20260420T035924
CREATED:20250926T194643Z
LAST-MODIFIED:20250926T194820Z
UID:2613-1759518000-1759528800@shekhinahb.org
SUMMARY:Night of the Living Harbor @ Spruce Street
DESCRIPTION:
URL:https://shekhinahb.org/event/night-of-the-living-harbor/
LOCATION:Spruce Street Harbor Park\, 301 South Christopher Columbus Boulevard\, Philadelphia\, PA\, 19106
END:VEVENT
BEGIN:VEVENT
DTSTART;TZID=America/New_York:20251125T180000
DTEND;TZID=America/New_York:20251125T210000
DTSTAMP:20260420T035924
CREATED:20251114T202329Z
LAST-MODIFIED:20251119T163805Z
UID:2624-1764093600-1764104400@shekhinahb.org
SUMMARY:Tuesday Nights Live! Feat. Shekhinah B.
DESCRIPTION:Tuesday Nights Live activates participating hotels by offering Philadelphians and visitors alike with a welcoming space to enjoy live performances\, build meaningful connections and experience the vibrancy of our city’s nightlife. Meet us in the lobby for live music featuring Shekhinah B.
URL:https://shekhinahb.org/event/tuesday-nights-live-feat-shekhinah-b/
LOCATION:Aloft Philadelphia Downtown\, 101 N. Broad Street\, Philadelphia\, PA\, 19107\, United States
END:VEVENT
END:VCALENDAR