BEGIN:VCALENDAR
VERSION:2.0
PRODID:-// - ECPv6.15.20//NONSGML v1.0//EN
CALSCALE:GREGORIAN
METHOD:PUBLISH
X-ORIGINAL-URL:https://shekhinahb.org
X-WR-CALDESC:Events for 
REFRESH-INTERVAL;VALUE=DURATION:PT1H
X-Robots-Tag:noindex
X-PUBLISHED-TTL:PT1H
BEGIN:VTIMEZONE
TZID:America/New_York
BEGIN:DAYLIGHT
TZOFFSETFROM:-0500
TZOFFSETTO:-0400
TZNAME:EDT
DTSTART:20220313T070000
END:DAYLIGHT
BEGIN:STANDARD
TZOFFSETFROM:-0400
TZOFFSETTO:-0500
TZNAME:EST
DTSTART:20221106T060000
END:STANDARD
BEGIN:DAYLIGHT
TZOFFSETFROM:-0500
TZOFFSETTO:-0400
TZNAME:EDT
DTSTART:20230312T070000
END:DAYLIGHT
BEGIN:STANDARD
TZOFFSETFROM:-0400
TZOFFSETTO:-0500
TZNAME:EST
DTSTART:20231105T060000
END:STANDARD
BEGIN:DAYLIGHT
TZOFFSETFROM:-0500
TZOFFSETTO:-0400
TZNAME:EDT
DTSTART:20240310T070000
END:DAYLIGHT
BEGIN:STANDARD
TZOFFSETFROM:-0400
TZOFFSETTO:-0500
TZNAME:EST
DTSTART:20241103T060000
END:STANDARD
END:VTIMEZONE
BEGIN:VEVENT
DTSTART;TZID=America/New_York:20230915T193000
DTEND;TZID=America/New_York:20230915T223000
DTSTAMP:20260420T102846
CREATED:20230905T040003Z
LAST-MODIFIED:20230905T174645Z
UID:2032-1694806200-1694817000@shekhinahb.org
SUMMARY:Fall Fest @ Spruce Street Harbor Park 2023
DESCRIPTION:Get ready to fall into the past at Fall Fest at Spruce Street Harbor Park on September 15\, 16\, and 17. All Ages. Free.\nCelebrate sweather weather will a weekend full of your favorite autumn activities with a touch of the past. Follow us through the decades with this amazing interactive event that is perfect for families. Get ready to groove to the beats of a live band\, enjoy the tunes spun by talented local DJs\, and explore your creativity through exciting crafts. This is an event that will bring smiles to the faces of party enthusiasts of all ages. Come and join the fun with your whole family. FREE. \nFull Schedule \nFriday\, September 15\, 7:30 pm to 10:30 pm\nDance through the Decades during the delightful journey through the captivating world of music\, filled with joyful sounds and groovy dance moves from the 70s all the way to the early 2000s with this live DJ set. \nSaturday\, September 16\, 3 pm to 10:30 pm  \n\n3 pm – 4 pm: DJ on the Barge\n4 pm – 4:30 pm: Vocalist Patrice Hawthorne\, with songs from the 60s and 70s in the beer garden\n4:30 pm – 7:30 pm: DJ on the barge\n7 pm – 9 pm: The Beat Tells Tribute Band Performance in the Circle\n9 pm – 10:30 pm: DJ on the barge\n\nSunday\, September 17\, 11 am to 8 pm \n\n11 am – 5 pm: Family-friendly crafts and activities\n5 pm – 8 pm: DJ\n\nEnjoy local beers at Spruce Street Harbor Park and Independence Blue Cross RiverRink Summerfest all weekend long.
URL:https://shekhinahb.org/event/fall-fest-spruce-street-harbor-park-2023/
LOCATION:Spruce Street Harbor Park\, 301 South Christopher Columbus Boulevard\, Philadelphia\, PA\, 19106
END:VEVENT
BEGIN:VEVENT
DTSTART;TZID=America/New_York:20230913T120000
DTEND;TZID=America/New_York:20230913T130000
DTSTAMP:20260420T102846
CREATED:20230729T204539Z
LAST-MODIFIED:20230829T133430Z
UID:2011-1694606400-1694610000@shekhinahb.org
SUMMARY:Live @ Lunch presented by TD Bank Fall Series (Dilworth Plaza) Feat. Shekhinah B.
DESCRIPTION:Live @ Lunch presented by TD Bank\, curated by Shekhinah B.
URL:https://shekhinahb.org/event/live-lunch-presented-by-td-bank-fall-series-dilworth-plaza-feat-shekhinah-b/
LOCATION:Dilworth Plaza\, 1 S 15th St\, Philadelphia\, PA\, 19102\, United States
END:VEVENT
BEGIN:VEVENT
DTSTART;TZID=America/New_York:20230906T120000
DTEND;TZID=America/New_York:20230906T130000
DTSTAMP:20260420T102846
CREATED:20230729T203842Z
LAST-MODIFIED:20230829T133527Z
UID:2009-1694001600-1694005200@shekhinahb.org
SUMMARY:Live @ Lunch presented by TD Bank Fall Series (Dilworth Plaza) Feat. Patrice Hawthorne
DESCRIPTION:Live @ Lunch presented by TD Bank\, curated by Shekhinah B.
URL:https://shekhinahb.org/event/live-lunch-presented-by-td-bank-fall-series-dilworth-plaza-feat-patrice-hawthorne/
LOCATION:Dilworth Plaza\, 1 S 15th St\, Philadelphia\, PA\, 19102\, United States
END:VEVENT
BEGIN:VEVENT
DTSTART;TZID=America/New_York:20230902T190000
DTEND;TZID=America/New_York:20230902T220000
DTSTAMP:20260420T102846
CREATED:20230529T172300Z
LAST-MODIFIED:20230529T172300Z
UID:1958-1693681200-1693692000@shekhinahb.org
SUMMARY:Saturday Sounds Summerfest 2023 (DJ ChillX)
DESCRIPTION:Blue Cross RiverRink Summerfest and Spruce Street Harbor Park reopen on May 12\, kicking off a season of warm weather fun on the Delaware River Waterfront at Penns Landing.
URL:https://shekhinahb.org/event/saturday-sounds-summerfest-2023-dj-chillx-2/
LOCATION:Blue Cross RiverRink\, 101 S. Columbus Blvd\, Philadelphia\, PA\, 19106\, United States
END:VEVENT
BEGIN:VEVENT
DTSTART;TZID=America/New_York:20230901T193000
DTEND;TZID=America/New_York:20230901T223000
DTSTAMP:20260420T102846
CREATED:20230430T201358Z
LAST-MODIFIED:20230430T201545Z
UID:1892-1693596600-1693607400@shekhinahb.org
SUMMARY:After Work Sessions at the Waterfront 2023
DESCRIPTION:
URL:https://shekhinahb.org/event/after-work-sessions-at-the-waterfront-2023-15/
LOCATION:Spruce Street Harbor Park\, 301 South Christopher Columbus Boulevard\, Philadelphia\, PA\, 19106
END:VEVENT
BEGIN:VEVENT
DTSTART;TZID=America/New_York:20230901T190000
DTEND;TZID=America/New_York:20230901T220000
DTSTAMP:20260420T102846
CREATED:20230702T171359Z
LAST-MODIFIED:20230702T171359Z
UID:1989-1693594800-1693605600@shekhinahb.org
SUMMARY:Sistah Soul Series 2023
DESCRIPTION:
URL:https://shekhinahb.org/event/sistah-soul-series-2023-3/
LOCATION:Cherry Street Pier\, 121 N. Columbus Blvd\, Philadelphia\, PA\, 19106\, United States
END:VEVENT
BEGIN:VEVENT
DTSTART;TZID=America/New_York:20230826T190000
DTEND;TZID=America/New_York:20230826T220000
DTSTAMP:20260420T102846
CREATED:20230529T172119Z
LAST-MODIFIED:20230529T172119Z
UID:1956-1693076400-1693087200@shekhinahb.org
SUMMARY:Saturday Sounds Summerfest 2023
DESCRIPTION:Blue Cross RiverRink Summerfest and Spruce Street Harbor Park reopen on May 12\, kicking off a season of warm weather fun on the Delaware River Waterfront at Penns Landing.
URL:https://shekhinahb.org/event/saturday-sounds-summerfest-2023-2/
LOCATION:Blue Cross RiverRink\, 101 S. Columbus Blvd\, Philadelphia\, PA\, 19106\, United States
END:VEVENT
BEGIN:VEVENT
DTSTART;TZID=America/New_York:20230825T193000
DTEND;TZID=America/New_York:20230825T223000
DTSTAMP:20260420T102846
CREATED:20230430T201149Z
LAST-MODIFIED:20230430T201611Z
UID:1890-1692991800-1693002600@shekhinahb.org
SUMMARY:After Work Sessions at the Waterfront 2023
DESCRIPTION:
URL:https://shekhinahb.org/event/after-work-sessions-at-the-waterfront-2023-14/
LOCATION:Spruce Street Harbor Park\, 301 South Christopher Columbus Boulevard\, Philadelphia\, PA\, 19106
END:VEVENT
BEGIN:VEVENT
DTSTART;TZID=America/New_York:20230819T190000
DTEND;TZID=America/New_York:20230819T220000
DTSTAMP:20260420T102846
CREATED:20230529T171945Z
LAST-MODIFIED:20230529T171945Z
UID:1954-1692471600-1692482400@shekhinahb.org
SUMMARY:Saturday Sounds Summerfest 2023
DESCRIPTION:Blue Cross RiverRink Summerfest and Spruce Street Harbor Park reopen on May 12\, kicking off a season of warm weather fun on the Delaware River Waterfront at Penns Landing.
URL:https://shekhinahb.org/event/saturday-sounds-summerfest-2023/
LOCATION:Blue Cross RiverRink\, 101 S. Columbus Blvd\, Philadelphia\, PA\, 19106\, United States
END:VEVENT
BEGIN:VEVENT
DTSTART;TZID=America/New_York:20230818T193000
DTEND;TZID=America/New_York:20230818T223000
DTSTAMP:20260420T102846
CREATED:20230430T200953Z
LAST-MODIFIED:20230430T201637Z
UID:1888-1692387000-1692397800@shekhinahb.org
SUMMARY:After Work Sessions at the Waterfront 2023
DESCRIPTION:
URL:https://shekhinahb.org/event/after-work-sessions-at-the-waterfront-2023-13/
LOCATION:Spruce Street Harbor Park\, 301 South Christopher Columbus Boulevard\, Philadelphia\, PA\, 19106
END:VEVENT
BEGIN:VEVENT
DTSTART;TZID=America/New_York:20230812T190000
DTEND;TZID=America/New_York:20230812T220000
DTSTAMP:20260420T102846
CREATED:20230529T171807Z
LAST-MODIFIED:20230529T171807Z
UID:1952-1691866800-1691877600@shekhinahb.org
SUMMARY:Saturday Sounds Summerfest 2023 (DJ Roc Da Spot)
DESCRIPTION:Blue Cross RiverRink Summerfest and Spruce Street Harbor Park reopen on May 12\, kicking off a season of warm weather fun on the Delaware River Waterfront at Penns Landing.
URL:https://shekhinahb.org/event/saturday-sounds-summerfest-2023-dj-roc-da-spot-3/
LOCATION:Blue Cross RiverRink\, 101 S. Columbus Blvd\, Philadelphia\, PA\, 19106\, United States
END:VEVENT
BEGIN:VEVENT
DTSTART;TZID=America/New_York:20230811T193000
DTEND;TZID=America/New_York:20230811T223000
DTSTAMP:20260420T102846
CREATED:20230430T200831Z
LAST-MODIFIED:20230430T201727Z
UID:1886-1691782200-1691793000@shekhinahb.org
SUMMARY:After Work Sessions at the Waterfront 2023
DESCRIPTION:
URL:https://shekhinahb.org/event/after-work-sessions-at-the-waterfront-2023-12/
LOCATION:Spruce Street Harbor Park\, 301 South Christopher Columbus Boulevard\, Philadelphia\, PA\, 19106
END:VEVENT
BEGIN:VEVENT
DTSTART;TZID=America/New_York:20230805T190000
DTEND;TZID=America/New_York:20230805T220000
DTSTAMP:20260420T102846
CREATED:20230529T171638Z
LAST-MODIFIED:20230529T171638Z
UID:1950-1691262000-1691272800@shekhinahb.org
SUMMARY:Saturday Sounds Summerfest 2023 (DJ Reddz)
DESCRIPTION:Blue Cross RiverRink Summerfest and Spruce Street Harbor Park reopen on May 12\, kicking off a season of warm weather fun on the Delaware River Waterfront at Penns Landing.
URL:https://shekhinahb.org/event/saturday-sounds-summerfest-2023-dj-reddz-2/
LOCATION:Blue Cross RiverRink\, 101 S. Columbus Blvd\, Philadelphia\, PA\, 19106\, United States
END:VEVENT
BEGIN:VEVENT
DTSTART;TZID=America/New_York:20230804T193000
DTEND;TZID=America/New_York:20230804T223000
DTSTAMP:20260420T102846
CREATED:20230430T200647Z
LAST-MODIFIED:20230430T201815Z
UID:1884-1691177400-1691188200@shekhinahb.org
SUMMARY:After Work Sessions at the Waterfront 2023
DESCRIPTION:
URL:https://shekhinahb.org/event/after-work-sessions-at-the-waterfront-2023-11/
LOCATION:Spruce Street Harbor Park\, 301 South Christopher Columbus Boulevard\, Philadelphia\, PA\, 19106
END:VEVENT
BEGIN:VEVENT
DTSTART;TZID=America/New_York:20230804T190000
DTEND;TZID=America/New_York:20230804T220000
DTSTAMP:20260420T102846
CREATED:20230702T170958Z
LAST-MODIFIED:20230702T170958Z
UID:1987-1691175600-1691186400@shekhinahb.org
SUMMARY:Sistah Soul Series 2023
DESCRIPTION:
URL:https://shekhinahb.org/event/sistah-soul-series-2023-2/
LOCATION:Cherry Street Pier\, 121 N. Columbus Blvd\, Philadelphia\, PA\, 19106\, United States
END:VEVENT
BEGIN:VEVENT
DTSTART;TZID=America/New_York:20230729T190000
DTEND;TZID=America/New_York:20230729T220000
DTSTAMP:20260420T102846
CREATED:20230529T171510Z
LAST-MODIFIED:20230529T171510Z
UID:1948-1690657200-1690668000@shekhinahb.org
SUMMARY:Saturday Sounds Summerfest 2023 (DJ Showtymelive)
DESCRIPTION:Blue Cross RiverRink Summerfest and Spruce Street Harbor Park reopen on May 12\, kicking off a season of warm weather fun on the Delaware River Waterfront at Penns Landing.
URL:https://shekhinahb.org/event/saturday-sounds-summerfest-2023-dj-showtymelive/
LOCATION:Blue Cross RiverRink\, 101 S. Columbus Blvd\, Philadelphia\, PA\, 19106\, United States
END:VEVENT
BEGIN:VEVENT
DTSTART;TZID=America/New_York:20230728T193000
DTEND;TZID=America/New_York:20230728T223000
DTSTAMP:20260420T102846
CREATED:20230430T200526Z
LAST-MODIFIED:20230430T201837Z
UID:1882-1690572600-1690583400@shekhinahb.org
SUMMARY:After Work Sessions at the Waterfront 2023
DESCRIPTION:
URL:https://shekhinahb.org/event/after-work-sessions-at-the-waterfront-2023-10/
LOCATION:Spruce Street Harbor Park\, 301 South Christopher Columbus Boulevard\, Philadelphia\, PA\, 19106
END:VEVENT
BEGIN:VEVENT
DTSTART;TZID=America/New_York:20230722T190000
DTEND;TZID=America/New_York:20230722T220000
DTSTAMP:20260420T102846
CREATED:20230529T171330Z
LAST-MODIFIED:20230529T171330Z
UID:1946-1690052400-1690063200@shekhinahb.org
SUMMARY:Saturday Sounds Summerfest 2023 (DJ ChillX)
DESCRIPTION:Blue Cross RiverRink Summerfest and Spruce Street Harbor Park reopen on May 12\, kicking off a season of warm weather fun on the Delaware River Waterfront at Penns Landing.
URL:https://shekhinahb.org/event/saturday-sounds-summerfest-2023-dj-chillx/
LOCATION:Blue Cross RiverRink\, 101 S. Columbus Blvd\, Philadelphia\, PA\, 19106\, United States
END:VEVENT
BEGIN:VEVENT
DTSTART;TZID=America/New_York:20230721T193000
DTEND;TZID=America/New_York:20230721T223000
DTSTAMP:20260420T102846
CREATED:20230430T202121Z
LAST-MODIFIED:20230430T202121Z
UID:1894-1689967800-1689978600@shekhinahb.org
SUMMARY:After Work Sessions at the Waterfront 2023
DESCRIPTION:
URL:https://shekhinahb.org/event/after-work-sessions-at-the-waterfront-2023-16/
LOCATION:Spruce Street Harbor Park\, 301 South Christopher Columbus Boulevard\, Philadelphia\, PA\, 19106
END:VEVENT
BEGIN:VEVENT
DTSTART;TZID=America/New_York:20230715T190000
DTEND;TZID=America/New_York:20230715T220000
DTSTAMP:20260420T102846
CREATED:20230529T171015Z
LAST-MODIFIED:20230529T171015Z
UID:1944-1689447600-1689458400@shekhinahb.org
SUMMARY:Saturday Sounds Summerfest 2023 (DJ Roc Da Spot)
DESCRIPTION:Blue Cross RiverRink Summerfest and Spruce Street Harbor Park reopen on May 12\, kicking off a season of warm weather fun on the Delaware River Waterfront at Penns Landing.
URL:https://shekhinahb.org/event/saturday-sounds-summerfest-2023-dj-roc-da-spot-2/
LOCATION:Blue Cross RiverRink\, 101 S. Columbus Blvd\, Philadelphia\, PA\, 19106\, United States
END:VEVENT
BEGIN:VEVENT
DTSTART;TZID=America/New_York:20230714T193000
DTEND;TZID=America/New_York:20230714T223000
DTSTAMP:20260420T102846
CREATED:20230430T200346Z
LAST-MODIFIED:20230430T201908Z
UID:1880-1689363000-1689373800@shekhinahb.org
SUMMARY:After Work Sessions at the Waterfront 2023
DESCRIPTION:
URL:https://shekhinahb.org/event/after-work-sessions-at-the-waterfront-2023-9/
LOCATION:Spruce Street Harbor Park\, 301 South Christopher Columbus Boulevard\, Philadelphia\, PA\, 19106
END:VEVENT
BEGIN:VEVENT
DTSTART;TZID=America/New_York:20230708T190000
DTEND;TZID=America/New_York:20230708T220000
DTSTAMP:20260420T102846
CREATED:20230529T170826Z
LAST-MODIFIED:20230529T170826Z
UID:1942-1688842800-1688853600@shekhinahb.org
SUMMARY:Saturday Sounds Summerfest 2023 (DJ Reddz)
DESCRIPTION:Blue Cross RiverRink Summerfest and Spruce Street Harbor Park reopen on May 12\, kicking off a season of warm weather fun on the Delaware River Waterfront at Penns Landing.
URL:https://shekhinahb.org/event/saturday-sounds-summerfest-2023-dj-reddz/
LOCATION:Blue Cross RiverRink\, 101 S. Columbus Blvd\, Philadelphia\, PA\, 19106\, United States
END:VEVENT
BEGIN:VEVENT
DTSTART;TZID=America/New_York:20230707T193000
DTEND;TZID=America/New_York:20230707T223000
DTSTAMP:20260420T102846
CREATED:20230430T200223Z
LAST-MODIFIED:20230430T202008Z
UID:1878-1688758200-1688769000@shekhinahb.org
SUMMARY:After Work Sessions at the Waterfront 2023
DESCRIPTION:
URL:https://shekhinahb.org/event/after-work-sessions-at-the-waterfront-2023-8/
LOCATION:Spruce Street Harbor Park\, 301 South Christopher Columbus Boulevard\, Philadelphia\, PA\, 19106
END:VEVENT
BEGIN:VEVENT
DTSTART;TZID=America/New_York:20230707T190000
DTEND;TZID=America/New_York:20230707T220000
DTSTAMP:20260420T102846
CREATED:20230702T170301Z
LAST-MODIFIED:20230702T170301Z
UID:1984-1688756400-1688767200@shekhinahb.org
SUMMARY:Sistah Soul Series 2023
DESCRIPTION:
URL:https://shekhinahb.org/event/sistah-soul-series-2023/
LOCATION:Cherry Street Pier\, 121 N. Columbus Blvd\, Philadelphia\, PA\, 19106\, United States
END:VEVENT
BEGIN:VEVENT
DTSTART;TZID=America/New_York:20230701T190000
DTEND;TZID=America/New_York:20230701T220000
DTSTAMP:20260420T102846
CREATED:20230529T170334Z
LAST-MODIFIED:20230529T170334Z
UID:1936-1688238000-1688248800@shekhinahb.org
SUMMARY:Saturday Sounds Summerfest 2023 (DJ Jay Tables)
DESCRIPTION:Blue Cross RiverRink Summerfest and Spruce Street Harbor Park reopen on May 12\, kicking off a season of warm weather fun on the Delaware River Waterfront at Penns Landing.
URL:https://shekhinahb.org/event/saturday-sounds-summerfest-2023-dj-jay-tables-2/
LOCATION:Blue Cross RiverRink\, 101 S. Columbus Blvd\, Philadelphia\, PA\, 19106\, United States
END:VEVENT
BEGIN:VEVENT
DTSTART;TZID=America/New_York:20230630T193000
DTEND;TZID=America/New_York:20230630T223000
DTSTAMP:20260420T102846
CREATED:20230430T200055Z
LAST-MODIFIED:20230430T202239Z
UID:1876-1688153400-1688164200@shekhinahb.org
SUMMARY:After Work Sessions at the Waterfront 2023
DESCRIPTION:
URL:https://shekhinahb.org/event/after-work-sessions-at-the-waterfront-2023-7/
LOCATION:Spruce Street Harbor Park\, 301 South Christopher Columbus Boulevard\, Philadelphia\, PA\, 19106
END:VEVENT
BEGIN:VEVENT
DTSTART;TZID=America/New_York:20230624T190000
DTEND;TZID=America/New_York:20230624T220000
DTSTAMP:20260420T102846
CREATED:20230529T170207Z
LAST-MODIFIED:20230529T170207Z
UID:1934-1687633200-1687644000@shekhinahb.org
SUMMARY:Saturday Sounds Summerfest 2023 (DJ Roc Da Spot)
DESCRIPTION:Blue Cross RiverRink Summerfest and Spruce Street Harbor Park reopen on May 12\, kicking off a season of warm weather fun on the Delaware River Waterfront at Penns Landing.
URL:https://shekhinahb.org/event/saturday-sounds-summerfest-2023-dj-roc-da-spot/
LOCATION:Blue Cross RiverRink\, 101 S. Columbus Blvd\, Philadelphia\, PA\, 19106\, United States
END:VEVENT
BEGIN:VEVENT
DTSTART;TZID=America/New_York:20230624T160000
DTEND;TZID=America/New_York:20230624T165500
DTSTAMP:20260420T102846
CREATED:20230211T025131Z
LAST-MODIFIED:20230608T191713Z
UID:1809-1687622400-1687625700@shekhinahb.org
SUMMARY:Olney Culture Lab presents Jazz @ Fisher Park (Sistahs Attune)
DESCRIPTION:
URL:https://shekhinahb.org/event/olney-culture-lab-presents-jazz-fisher-park-sistahs-attune/
LOCATION:Fisher Park\, 571 W Spencer St\, Philadelphia\, PA\, 19120\, United States
END:VEVENT
BEGIN:VEVENT
DTSTART;TZID=America/New_York:20230623T193000
DTEND;TZID=America/New_York:20230623T223000
DTSTAMP:20260420T102846
CREATED:20230430T195928Z
LAST-MODIFIED:20230430T202317Z
UID:1874-1687548600-1687559400@shekhinahb.org
SUMMARY:After Work Sessions at the Waterfront 2023
DESCRIPTION:
URL:https://shekhinahb.org/event/after-work-sessions-at-the-waterfront-2023-6/
LOCATION:Spruce Street Harbor Park\, 301 South Christopher Columbus Boulevard\, Philadelphia\, PA\, 19106
END:VEVENT
BEGIN:VEVENT
DTSTART;TZID=America/New_York:20230622T170000
DTEND;TZID=America/New_York:20230622T190000
DTSTAMP:20260420T102846
CREATED:20230516T021857Z
LAST-MODIFIED:20230516T021857Z
UID:1924-1687453200-1687460400@shekhinahb.org
SUMMARY:Center City Social
DESCRIPTION:
URL:https://shekhinahb.org/event/center-city-social-4/
LOCATION:PA
END:VEVENT
END:VCALENDAR