BEGIN:VCALENDAR
VERSION:2.0
PRODID:-// - ECPv6.15.20//NONSGML v1.0//EN
CALSCALE:GREGORIAN
METHOD:PUBLISH
X-ORIGINAL-URL:https://shekhinahb.org
X-WR-CALDESC:Events for 
REFRESH-INTERVAL;VALUE=DURATION:PT1H
X-Robots-Tag:noindex
X-PUBLISHED-TTL:PT1H
BEGIN:VTIMEZONE
TZID:America/New_York
BEGIN:DAYLIGHT
TZOFFSETFROM:-0500
TZOFFSETTO:-0400
TZNAME:EDT
DTSTART:20250309T070000
END:DAYLIGHT
BEGIN:STANDARD
TZOFFSETFROM:-0400
TZOFFSETTO:-0500
TZNAME:EST
DTSTART:20251102T060000
END:STANDARD
BEGIN:DAYLIGHT
TZOFFSETFROM:-0500
TZOFFSETTO:-0400
TZNAME:EDT
DTSTART:20260308T070000
END:DAYLIGHT
BEGIN:STANDARD
TZOFFSETFROM:-0400
TZOFFSETTO:-0500
TZNAME:EST
DTSTART:20261101T060000
END:STANDARD
BEGIN:DAYLIGHT
TZOFFSETFROM:-0500
TZOFFSETTO:-0400
TZNAME:EDT
DTSTART:20270314T070000
END:DAYLIGHT
BEGIN:STANDARD
TZOFFSETFROM:-0400
TZOFFSETTO:-0500
TZNAME:EST
DTSTART:20271107T060000
END:STANDARD
END:VTIMEZONE
BEGIN:VEVENT
DTSTART;TZID=America/New_York:20260619T190000
DTEND;TZID=America/New_York:20260619T220000
DTSTAMP:20260420T005219
CREATED:20260213T230520Z
LAST-MODIFIED:20260214T001749Z
UID:2715-1781895600-1781906400@shekhinahb.org
SUMMARY:ROLL CALL | Friday\, June 19\, 2026
DESCRIPTION:ROLL CALL Fridays @ Blue Cross RiverRink \nClock out and roll into the weekend. Roll Call Fridays is a free weekly roller skating and dance party at Blue Cross RiverRink. \nEnjoy live DJs\, pop-up performances\, dancing\, and high-energy vibes every Friday during Summerfest. \nWhether you’re skating or dancing rinkside\, this is where music\, movement\, and community meet. \nFree admission. Good energy required.
URL:https://shekhinahb.org/event/roll-call-friday-june-19-2026/
LOCATION:Blue Cross RiverRink\, 101 S. Columbus Blvd\, Philadelphia\, PA\, 19106\, United States
END:VEVENT
BEGIN:VEVENT
DTSTART;TZID=America/New_York:20260620T130000
DTEND;TZID=America/New_York:20260620T180000
DTSTAMP:20260420T005219
CREATED:20250824T165259Z
LAST-MODIFIED:20260104T194020Z
UID:2594-1781960400-1781978400@shekhinahb.org
SUMMARY:Juneteenth Wellness & Arts Festival 2026
DESCRIPTION:Join Us For Philly’s First Event Wine-Less Festival In Celebration of Juneteenth!
URL:https://shekhinahb.org/event/juneteenth-wellness-arts-festival-2026/
LOCATION:Cherry Street Pier\, 121 N. Columbus Blvd\, Philadelphia\, PA\, 19106\, United States
END:VEVENT
BEGIN:VEVENT
DTSTART;TZID=America/New_York:20260626T190000
DTEND;TZID=America/New_York:20260626T220000
DTSTAMP:20260420T005219
CREATED:20260213T230911Z
LAST-MODIFIED:20260214T001739Z
UID:2717-1782500400-1782511200@shekhinahb.org
SUMMARY:ROLL CALL | Friday\, June 26\, 2026
DESCRIPTION:ROLL CALL Fridays @ Blue Cross RiverRink \nClock out and roll into the weekend. Roll Call Fridays is a free weekly roller skating and dance party at Blue Cross RiverRink. \nEnjoy live DJs\, pop-up performances\, dancing\, and high-energy vibes every Friday during Summerfest. \nWhether you’re skating or dancing rinkside\, this is where music\, movement\, and community meet. \nFree admission. Good energy required.
URL:https://shekhinahb.org/event/roll-call-friday-june-26-2026/
LOCATION:Blue Cross RiverRink\, 101 S. Columbus Blvd\, Philadelphia\, PA\, 19106\, United States
END:VEVENT
BEGIN:VEVENT
DTSTART;TZID=America/New_York:20260703T110000
DTEND;TZID=America/New_York:20260703T120000
DTSTAMP:20260420T005219
CREATED:20251229T155427Z
LAST-MODIFIED:20251229T155918Z
UID:2658-1783076400-1783080000@shekhinahb.org
SUMMARY:250TH - SALUTE TO INDEPENDENCE Parade feat. Shekhinah B.
DESCRIPTION:Location – Downtown Philadelphia\, starting at 5th & Chestnut\, passing Independence Hall\, then Market Street to Broad Street.
URL:https://shekhinahb.org/event/250th-salute-to-independence-parade-feat-shekhinah-b/
LOCATION:PA
END:VEVENT
BEGIN:VEVENT
DTSTART;TZID=America/New_York:20260703T180000
DTEND;TZID=America/New_York:20260703T210000
DTSTAMP:20260420T005219
CREATED:20260115T200923Z
LAST-MODIFIED:20260125T201814Z
UID:2678-1783101600-1783112400@shekhinahb.org
SUMMARY:Sistah Soul Series 2026 - July 3
DESCRIPTION:Sistah Soul Series – Live Music\, Jam Sessions & First Friday Vibes\nJoin us every First Friday from May through October\, 6:00 PM–9:00 PM\, at Cherry Street Pier for the Sistah Soul Series\, a free\, all-ages live music experience celebrating soul\, jazz\, R&B\, improvisation\, and community connection on the Philadelphia waterfront. \nEach event features a curated flow of music and live performance: \n\n\n6:00–6:45 PM: DJ Set \n\n6:45–7:00 PM: Opening Live Band Performance\n7:00–7:45 PM: Featured Artists Improvising with the House Band\n7:45–8:30 PM: DJ Set\n\n8:30–9:00 PM: Open Jam Session (ends promptly at 9:00 PM) \n\n\nVocalists\, instrumentalists\, poets\, and creatives interested in performing must sign up by 8:00 PM. \nThis event is free and open to the public\, welcoming music lovers of all ages. Whether you’re coming to perform\, vibe\, or discover new talent\, Sistah Soul Series is your go-to First Friday destination for live music and creative energy.
URL:https://shekhinahb.org/event/sistah-soul-series-2026-july-3/
LOCATION:Cherry Street Pier\, 121 N. Columbus Blvd\, Philadelphia\, PA\, 19106\, United States
END:VEVENT
BEGIN:VEVENT
DTSTART;TZID=America/New_York:20260703T190000
DTEND;TZID=America/New_York:20260703T220000
DTSTAMP:20260420T005219
CREATED:20260213T231256Z
LAST-MODIFIED:20260214T001729Z
UID:2719-1783105200-1783116000@shekhinahb.org
SUMMARY:ROLL CALL | Friday\, July 3\, 2026
DESCRIPTION:ROLL CALL Fridays @ Blue Cross RiverRink \nClock out and roll into the weekend. Roll Call Fridays is a free weekly roller skating and dance party at Blue Cross RiverRink. \nEnjoy live DJs\, pop-up performances\, dancing\, and high-energy vibes every Friday during Summerfest. \nWhether you’re skating or dancing rinkside\, this is where music\, movement\, and community meet. \nFree admission. Good energy required.
URL:https://shekhinahb.org/event/roll-call-friday-july-3-2026/
LOCATION:Blue Cross RiverRink\, 101 S. Columbus Blvd\, Philadelphia\, PA\, 19106\, United States
END:VEVENT
BEGIN:VEVENT
DTSTART;TZID=America/New_York:20260710T190000
DTEND;TZID=America/New_York:20260710T220000
DTSTAMP:20260420T005219
CREATED:20260213T231718Z
LAST-MODIFIED:20260214T001721Z
UID:2721-1783710000-1783720800@shekhinahb.org
SUMMARY:ROLL CALL | Friday\, July 10\, 2026
DESCRIPTION:ROLL CALL Fridays @ Blue Cross RiverRink \nClock out and roll into the weekend. Roll Call Fridays is a free weekly roller skating and dance party at Blue Cross RiverRink. \nEnjoy live DJs\, pop-up performances\, dancing\, and high-energy vibes every Friday during Summerfest. \nWhether you’re skating or dancing rinkside\, this is where music\, movement\, and community meet. \nFree admission. Good energy required.
URL:https://shekhinahb.org/event/roll-call-friday-july-10-2026/
LOCATION:Blue Cross RiverRink\, 101 S. Columbus Blvd\, Philadelphia\, PA\, 19106\, United States
END:VEVENT
BEGIN:VEVENT
DTSTART;TZID=America/New_York:20260717T190000
DTEND;TZID=America/New_York:20260717T220000
DTSTAMP:20260420T005219
CREATED:20260213T232102Z
LAST-MODIFIED:20260214T001712Z
UID:2723-1784314800-1784325600@shekhinahb.org
SUMMARY:ROLL CALL | Friday July 17\, 2026
DESCRIPTION:ROLL CALL Fridays @ Blue Cross RiverRink \nClock out and roll into the weekend. Roll Call Fridays is a free weekly roller skating and dance party at Blue Cross RiverRink. \nEnjoy live DJs\, pop-up performances\, dancing\, and high-energy vibes every Friday during Summerfest. \nWhether you’re skating or dancing rinkside\, this is where music\, movement\, and community meet. \nFree admission. Good energy required.
URL:https://shekhinahb.org/event/roll-call-friday-july-17-2026/
LOCATION:Blue Cross RiverRink\, 101 S. Columbus Blvd\, Philadelphia\, PA\, 19106\, United States
END:VEVENT
BEGIN:VEVENT
DTSTART;TZID=America/New_York:20260724T190000
DTEND;TZID=America/New_York:20260724T220000
DTSTAMP:20260420T005219
CREATED:20260213T232427Z
LAST-MODIFIED:20260214T001705Z
UID:2725-1784919600-1784930400@shekhinahb.org
SUMMARY:ROLL CALL | Friday\, July 24\, 2026
DESCRIPTION:ROLL CALL Fridays @ Blue Cross RiverRink \nClock out and roll into the weekend. Roll Call Fridays is a free weekly roller skating and dance party at Blue Cross RiverRink. \nEnjoy live DJs\, pop-up performances\, dancing\, and high-energy vibes every Friday during Summerfest. \nWhether you’re skating or dancing rinkside\, this is where music\, movement\, and community meet. \nFree admission. Good energy required.
URL:https://shekhinahb.org/event/roll-call-friday-july-24-2026/
LOCATION:Blue Cross RiverRink\, 101 S. Columbus Blvd\, Philadelphia\, PA\, 19106\, United States
END:VEVENT
BEGIN:VEVENT
DTSTART;TZID=America/New_York:20260731T190000
DTEND;TZID=America/New_York:20260731T220000
DTSTAMP:20260420T005219
CREATED:20260213T232949Z
LAST-MODIFIED:20260214T001658Z
UID:2727-1785524400-1785535200@shekhinahb.org
SUMMARY:ROLL CALL | Friday\, July 31\, 2026
DESCRIPTION:ROLL CALL Fridays @ Blue Cross RiverRink \nClock out and roll into the weekend. Roll Call Fridays is a free weekly roller skating and dance party at Blue Cross RiverRink. \nEnjoy live DJs\, pop-up performances\, dancing\, and high-energy vibes every Friday during Summerfest. \nWhether you’re skating or dancing rinkside\, this is where music\, movement\, and community meet. \nFree admission. Good energy required.
URL:https://shekhinahb.org/event/roll-call-friday-july-31-2026/
LOCATION:Blue Cross RiverRink\, 101 S. Columbus Blvd\, Philadelphia\, PA\, 19106\, United States
END:VEVENT
BEGIN:VEVENT
DTSTART;TZID=America/New_York:20260803T090000
DTEND;TZID=America/New_York:20260803T094500
DTSTAMP:20260420T005219
CREATED:20260224T214441Z
LAST-MODIFIED:20260224T215142Z
UID:2745-1785747600-1785750300@shekhinahb.org
SUMMARY:Musikfest Music Industry Conference (Aug. 3rd 9AM)
DESCRIPTION:
URL:https://shekhinahb.org/event/musikfest-music-industry-conference/
LOCATION:ArtsQuest Center at SteelStacks\, 101 Founders Way\, Bethlehen\, PA\, 18015
END:VEVENT
BEGIN:VEVENT
DTSTART;TZID=America/New_York:20260807T180000
DTEND;TZID=America/New_York:20260807T210000
DTSTAMP:20260420T005219
CREATED:20260115T201057Z
LAST-MODIFIED:20260125T201727Z
UID:2680-1786125600-1786136400@shekhinahb.org
SUMMARY:Sistah Soul Series 2026 - August 7
DESCRIPTION:Sistah Soul Series – Live Music\, Jam Sessions & First Friday Vibes\nJoin us every First Friday from May through October\, 6:00 PM–9:00 PM\, at Cherry Street Pier for the Sistah Soul Series\, a free\, all-ages live music experience celebrating soul\, jazz\, R&B\, improvisation\, and community connection on the Philadelphia waterfront. \nEach event features a curated flow of music and live performance: \n\n\n6:00–6:45 PM: DJ Set \n\n6:45–7:00 PM: Opening Live Band Performance\n7:00–7:45 PM: Featured Artists Improvising with the House Band\n7:45–8:30 PM: DJ Set\n\n8:30–9:00 PM: Open Jam Session (ends promptly at 9:00 PM) \n\n\nVocalists\, instrumentalists\, poets\, and creatives interested in performing must sign up by 8:00 PM. \nThis event is free and open to the public\, welcoming music lovers of all ages. Whether you’re coming to perform\, vibe\, or discover new talent\, Sistah Soul Series is your go-to First Friday destination for live music and creative energy.
URL:https://shekhinahb.org/event/sistah-soul-series-2026-august-7/
LOCATION:Cherry Street Pier\, 121 N. Columbus Blvd\, Philadelphia\, PA\, 19106\, United States
END:VEVENT
BEGIN:VEVENT
DTSTART;TZID=America/New_York:20260807T190000
DTEND;TZID=America/New_York:20260807T220000
DTSTAMP:20260420T005219
CREATED:20260213T233316Z
LAST-MODIFIED:20260214T001649Z
UID:2729-1786129200-1786140000@shekhinahb.org
SUMMARY:ROLL CALL | Friday\, August 7\, 2026
DESCRIPTION:ROLL CALL Fridays @ Blue Cross RiverRink \nClock out and roll into the weekend. Roll Call Fridays is a free weekly roller skating and dance party at Blue Cross RiverRink. \nEnjoy live DJs\, pop-up performances\, dancing\, and high-energy vibes every Friday during Summerfest. \nWhether you’re skating or dancing rinkside\, this is where music\, movement\, and community meet. \nFree admission. Good energy required.
URL:https://shekhinahb.org/event/roll-call-friday-august-7-2026/
LOCATION:Blue Cross RiverRink\, 101 S. Columbus Blvd\, Philadelphia\, PA\, 19106\, United States
END:VEVENT
BEGIN:VEVENT
DTSTART;TZID=America/New_York:20260814T190000
DTEND;TZID=America/New_York:20260814T220000
DTSTAMP:20260420T005219
CREATED:20260213T233809Z
LAST-MODIFIED:20260214T001642Z
UID:2731-1786734000-1786744800@shekhinahb.org
SUMMARY:ROLL CALL | Friday\, August 14\, 2026
DESCRIPTION:ROLL CALL Fridays @ Blue Cross RiverRink \nClock out and roll into the weekend. Roll Call Fridays is a free weekly roller skating and dance party at Blue Cross RiverRink. \nEnjoy live DJs\, pop-up performances\, dancing\, and high-energy vibes every Friday during Summerfest. \nWhether you’re skating or dancing rinkside\, this is where music\, movement\, and community meet. \nFree admission. Good energy required.
URL:https://shekhinahb.org/event/roll-call-friday-august-14-2026/
LOCATION:Blue Cross RiverRink\, 101 S. Columbus Blvd\, Philadelphia\, PA\, 19106\, United States
END:VEVENT
BEGIN:VEVENT
DTSTART;TZID=America/New_York:20260821T190000
DTEND;TZID=America/New_York:20260821T220000
DTSTAMP:20260420T005219
CREATED:20260213T234224Z
LAST-MODIFIED:20260214T001634Z
UID:2733-1787338800-1787349600@shekhinahb.org
SUMMARY:ROLL CALL | Friday\, August 21\, 2026
DESCRIPTION:ROLL CALL Fridays @ Blue Cross RiverRink \nClock out and roll into the weekend. Roll Call Fridays is a free weekly roller skating and dance party at Blue Cross RiverRink. \nEnjoy live DJs\, pop-up performances\, dancing\, and high-energy vibes every Friday during Summerfest. \nWhether you’re skating or dancing rinkside\, this is where music\, movement\, and community meet. \nFree admission. Good energy required.
URL:https://shekhinahb.org/event/roll-call-friday-august-21-2026/
LOCATION:Blue Cross RiverRink\, 101 S. Columbus Blvd\, Philadelphia\, PA\, 19106\, United States
END:VEVENT
BEGIN:VEVENT
DTSTART;TZID=America/New_York:20260828T190000
DTEND;TZID=America/New_York:20260828T220000
DTSTAMP:20260420T005219
CREATED:20260213T234751Z
LAST-MODIFIED:20260214T001625Z
UID:2735-1787943600-1787954400@shekhinahb.org
SUMMARY:ROLL CALL | Friday\, August 28\, 2026
DESCRIPTION:ROLL CALL Fridays @ Blue Cross RiverRink \nClock out and roll into the weekend. Roll Call Fridays is a free weekly roller skating and dance party at Blue Cross RiverRink. \nEnjoy live DJs\, pop-up performances\, dancing\, and high-energy vibes every Friday during Summerfest. \nWhether you’re skating or dancing rinkside\, this is where music\, movement\, and community meet. \nFree admission. Good energy required.
URL:https://shekhinahb.org/event/roll-call-friday-august-28-2026/
LOCATION:Blue Cross RiverRink\, 101 S. Columbus Blvd\, Philadelphia\, PA\, 19106\, United States
END:VEVENT
BEGIN:VEVENT
DTSTART;TZID=America/New_York:20260904T180000
DTEND;TZID=America/New_York:20260904T210000
DTSTAMP:20260420T005219
CREATED:20260115T201408Z
LAST-MODIFIED:20260125T201638Z
UID:2682-1788544800-1788555600@shekhinahb.org
SUMMARY:Sistah Soul Series 2026 - September 4
DESCRIPTION:Sistah Soul Series – Live Music\, Jam Sessions & First Friday Vibes\nJoin us every First Friday from May through October\, 6:00 PM–9:00 PM\, at Cherry Street Pier for the Sistah Soul Series\, a free\, all-ages live music experience celebrating soul\, jazz\, R&B\, improvisation\, and community connection on the Philadelphia waterfront. \nEach event features a curated flow of music and live performance: \n\n\n6:00–6:45 PM: DJ Set \n\n6:45–7:00 PM: Opening Live Band Performance\n7:00–7:45 PM: Featured Artists Improvising with the House Band\n7:45–8:30 PM: DJ Set\n\n8:30–9:00 PM: Open Jam Session (ends promptly at 9:00 PM) \n\n\nVocalists\, instrumentalists\, poets\, and creatives interested in performing must sign up by 8:00 PM. \nThis event is free and open to the public\, welcoming music lovers of all ages. Whether you’re coming to perform\, vibe\, or discover new talent\, Sistah Soul Series is your go-to First Friday destination for live music and creative energy.
URL:https://shekhinahb.org/event/sistah-soul-series-2026-september-4/
LOCATION:Cherry Street Pier\, 121 N. Columbus Blvd\, Philadelphia\, PA\, 19106\, United States
END:VEVENT
BEGIN:VEVENT
DTSTART;TZID=America/New_York:20260904T190000
DTEND;TZID=America/New_York:20260904T220000
DTSTAMP:20260420T005219
CREATED:20260213T235211Z
LAST-MODIFIED:20260214T001611Z
UID:2737-1788548400-1788559200@shekhinahb.org
SUMMARY:ROLL CALL | Friday\, September 4\, 2026
DESCRIPTION:ROLL CALL Fridays @ Blue Cross RiverRink \nClock out and roll into the weekend. Roll Call Fridays is a free weekly roller skating and dance party at Blue Cross RiverRink. \nEnjoy live DJs\, pop-up performances\, dancing\, and high-energy vibes every Friday during Summerfest. \nWhether you’re skating or dancing rinkside\, this is where music\, movement\, and community meet. \nFree admission. Good energy required.
URL:https://shekhinahb.org/event/roll-call-friday-september-4-2026/
LOCATION:Blue Cross RiverRink\, 101 S. Columbus Blvd\, Philadelphia\, PA\, 19106\, United States
END:VEVENT
BEGIN:VEVENT
DTSTART;TZID=America/New_York:20260927T160000
DTEND;TZID=America/New_York:20260927T190000
DTSTAMP:20260420T005219
CREATED:20260123T224159Z
LAST-MODIFIED:20260125T030925Z
UID:2692-1790524800-1790535600@shekhinahb.org
SUMMARY:Creatives Chat Series 2026 (September 27\, 2026)
DESCRIPTION:🔥 Join Us for the Creatives Chat Series 2026! 🎶 Mark your calendars for May 31 {4PM – 7PM EST}\, September 27 {4PM – 7PM EST}\, & November 1 {4PM – 7PM EST}\, and get ready to dive into inspiring discussions\, gain valuable industry insights\, and connect with a powerful network of creatives! \n🌟 Whether you’re an artist\, entrepreneur\, or industry professional\, this event is designed to empower\, educate\, and elevate your creative journey. 🎤 Live Music | 🍽 Free Food | Networking | \n🤝🏿Unmatched Networking Don’t miss this chance to fuel your creativity\, build meaningful connections\, and be part of a transformative experience! Secure your spot now! 🚀 #CreativesChat2026 #Networking #CreativeCommunity #FreeEvent #Food \nEvent Timeline | 4:00 PM – 7:00 PM \n4:00 PM – 4:15 PM | Welcome + Live Band \n4:15 PM – 5:00 PM | Creatives Chat: Panel Discussion / Interview \n5:00 PM – 6:15 PM | Interactive Workshop (Topic TBD) \n6:15 PM – 7:00 PM | Q&A + Networking & Music
URL:https://shekhinahb.org/event/creatives-chat-series-2026-september-27-2026/
LOCATION:The Rotunda\, 4014 Walnut Street\, Philadelphia\, PA\, 19104\, United States
END:VEVENT
BEGIN:VEVENT
DTSTART;TZID=America/New_York:20261002T180000
DTEND;TZID=America/New_York:20261002T210000
DTSTAMP:20260420T005219
CREATED:20260115T202641Z
LAST-MODIFIED:20260125T201543Z
UID:2684-1790964000-1790974800@shekhinahb.org
SUMMARY:Sistah Soul Series 2026 - October 2
DESCRIPTION:Sistah Soul Series – Live Music\, Jam Sessions & First Friday Vibes\nJoin us every First Friday from May through October\, 6:00 PM–9:00 PM\, at Cherry Street Pier for the Sistah Soul Series\, a free\, all-ages live music experience celebrating soul\, jazz\, R&B\, improvisation\, and community connection on the Philadelphia waterfront. \nEach event features a curated flow of music and live performance: \n\n\n6:00–6:45 PM: DJ Set \n\n6:45–7:00 PM: Opening Live Band Performance\n7:00–7:45 PM: Featured Artists Improvising with the House Band\n7:45–8:30 PM: DJ Set\n\n8:30–9:00 PM: Open Jam Session (ends promptly at 9:00 PM) \n\n\nVocalists\, instrumentalists\, poets\, and creatives interested in performing must sign up by 8:00 PM. \nThis event is free and open to the public\, welcoming music lovers of all ages. Whether you’re coming to perform\, vibe\, or discover new talent\, Sistah Soul Series is your go-to First Friday destination for live music and creative energy.
URL:https://shekhinahb.org/event/sistah-soul-series-2026-october-2/
LOCATION:Cherry Street Pier\, 121 N. Columbus Blvd\, Philadelphia\, PA\, 19106\, United States
END:VEVENT
BEGIN:VEVENT
DTSTART;TZID=America/New_York:20261101T160000
DTEND;TZID=America/New_York:20261101T190000
DTSTAMP:20260420T005219
CREATED:20260123T224435Z
LAST-MODIFIED:20260125T201444Z
UID:2694-1793548800-1793559600@shekhinahb.org
SUMMARY:Creatives Chat Series 2026 (November 1\, 2026)
DESCRIPTION:🔥 Join Us for the Creatives Chat Series 2026! 🎶 Mark your calendars for May 31 {4PM – 7PM EST}\, September 27 {4PM – 7PM EST}\, & November 1 {4PM – 7PM EST}\, and get ready to dive into inspiring discussions\, gain valuable industry insights\, and connect with a powerful network of creatives! \n🌟 Whether you’re an artist\, entrepreneur\, or industry professional\, this event is designed to empower\, educate\, and elevate your creative journey. 🎤 Live Music | 🍽 Free Food | Networking | \n🤝🏿Unmatched Networking Don’t miss this chance to fuel your creativity\, build meaningful connections\, and be part of a transformative experience! Secure your spot now! 🚀 #CreativesChat2026 #Networking #CreativeCommunity #FreeEvent #Food \nEvent Timeline | 4:00 PM – 7:00 PM \n4:00 PM – 4:15 PM | Welcome + Live Band \n4:15 PM – 5:00 PM | Creatives Chat: Panel Discussion / Interview \n5:00 PM – 6:15 PM | Interactive Workshop (Topic TBD) \n6:15 PM – 7:00 PM | Q&A + Networking & Music
URL:https://shekhinahb.org/event/creatives-chat-series-2026-november-1-2026/
LOCATION:The Rotunda\, 4014 Walnut Street\, Philadelphia\, PA\, 19104\, United States
END:VEVENT
END:VCALENDAR