BEGIN:VCALENDAR
VERSION:2.0
PRODID:-// - ECPv6.15.20//NONSGML v1.0//EN
CALSCALE:GREGORIAN
METHOD:PUBLISH
X-ORIGINAL-URL:https://shekhinahb.org
X-WR-CALDESC:Events for 
REFRESH-INTERVAL;VALUE=DURATION:PT1H
X-Robots-Tag:noindex
X-PUBLISHED-TTL:PT1H
BEGIN:VTIMEZONE
TZID:America/New_York
BEGIN:DAYLIGHT
TZOFFSETFROM:-0500
TZOFFSETTO:-0400
TZNAME:EDT
DTSTART:20250309T070000
END:DAYLIGHT
BEGIN:STANDARD
TZOFFSETFROM:-0400
TZOFFSETTO:-0500
TZNAME:EST
DTSTART:20251102T060000
END:STANDARD
BEGIN:DAYLIGHT
TZOFFSETFROM:-0500
TZOFFSETTO:-0400
TZNAME:EDT
DTSTART:20260308T070000
END:DAYLIGHT
BEGIN:STANDARD
TZOFFSETFROM:-0400
TZOFFSETTO:-0500
TZNAME:EST
DTSTART:20261101T060000
END:STANDARD
BEGIN:DAYLIGHT
TZOFFSETFROM:-0500
TZOFFSETTO:-0400
TZNAME:EDT
DTSTART:20270314T070000
END:DAYLIGHT
BEGIN:STANDARD
TZOFFSETFROM:-0400
TZOFFSETTO:-0500
TZNAME:EST
DTSTART:20271107T060000
END:STANDARD
END:VTIMEZONE
BEGIN:VEVENT
DTSTART;TZID=America/New_York:20260325T180000
DTEND;TZID=America/New_York:20260325T200000
DTSTAMP:20260419T135008
CREATED:20260314T230102Z
LAST-MODIFIED:20260314T230430Z
UID:2751-1774461600-1774468800@shekhinahb.org
SUMMARY:Hidden Benefits for Creatives Workshop: How Artists\, LLC Owners & Sole Proprietors Access Health Insurance\, Funding & Financial Support - An Art Economic Empowerment Initiative 2026
DESCRIPTION:CLICK HERE TO REGISTER \nThe Hidden Benefits for Creatives Workshop is a free educational session designed for artists\, freelancers\, LLC owners\, and sole proprietors who want to better understand how to legally access health insurance options\, business funding opportunities\, social service supports\, and student loan relief programs while managing self-employment income. This workshop breaks down real resources that creatives and small business owners can use to strengthen their financial stability and long-term economic empowerment.
URL:https://shekhinahb.org/event/hidden-benefits-for-creatives-workshop-how-artists-llc-owners-sole-proprietors-access-health-insurance-funding-financial-support-an-art-economic-empowerment-initiative-2026/
LOCATION:Archwell Health\, 6201 Germantown Ave.\, Philadelphia\, PA\, 19144
END:VEVENT
END:VCALENDAR